BEGIN:VCALENDAR
VERSION:2.0
PRODID:-//Middletown Christian Church - ECPv6.15.18//NONSGML v1.0//EN
CALSCALE:GREGORIAN
METHOD:PUBLISH
X-WR-CALNAME:Middletown Christian Church
X-ORIGINAL-URL:https://middletownchristian.org
X-WR-CALDESC:Events for Middletown Christian Church
REFRESH-INTERVAL;VALUE=DURATION:PT1H
X-Robots-Tag:noindex
X-PUBLISHED-TTL:PT1H
BEGIN:VTIMEZONE
TZID:America/Kentucky/Louisville
BEGIN:DAYLIGHT
TZOFFSETFROM:-0500
TZOFFSETTO:-0400
TZNAME:EDT
DTSTART:20230312T070000
END:DAYLIGHT
BEGIN:STANDARD
TZOFFSETFROM:-0400
TZOFFSETTO:-0500
TZNAME:EST
DTSTART:20231105T060000
END:STANDARD
BEGIN:DAYLIGHT
TZOFFSETFROM:-0500
TZOFFSETTO:-0400
TZNAME:EDT
DTSTART:20240310T070000
END:DAYLIGHT
BEGIN:STANDARD
TZOFFSETFROM:-0400
TZOFFSETTO:-0500
TZNAME:EST
DTSTART:20241103T060000
END:STANDARD
BEGIN:DAYLIGHT
TZOFFSETFROM:-0500
TZOFFSETTO:-0400
TZNAME:EDT
DTSTART:20250309T070000
END:DAYLIGHT
BEGIN:STANDARD
TZOFFSETFROM:-0400
TZOFFSETTO:-0500
TZNAME:EST
DTSTART:20251102T060000
END:STANDARD
BEGIN:DAYLIGHT
TZOFFSETFROM:-0500
TZOFFSETTO:-0400
TZNAME:EDT
DTSTART:20260308T070000
END:DAYLIGHT
BEGIN:STANDARD
TZOFFSETFROM:-0400
TZOFFSETTO:-0500
TZNAME:EST
DTSTART:20261101T060000
END:STANDARD
BEGIN:DAYLIGHT
TZOFFSETFROM:-0500
TZOFFSETTO:-0400
TZNAME:EDT
DTSTART:20270314T070000
END:DAYLIGHT
BEGIN:STANDARD
TZOFFSETFROM:-0400
TZOFFSETTO:-0500
TZNAME:EST
DTSTART:20271107T060000
END:STANDARD
END:VTIMEZONE
BEGIN:VEVENT
DTSTART;TZID=America/Kentucky/Louisville:20260419T083000
DTEND;TZID=America/Kentucky/Louisville:20260419T110000
DTSTAMP:20260423T060725
CREATED:20260114T143759Z
LAST-MODIFIED:20260325T172348Z
UID:10053-1776587400-1776596400@middletownchristian.org
SUMMARY:Sunday Worship: In-Person & Online
DESCRIPTION:Join us for worship online and in-person on Sundays! \n  \nIn-Person:  8:30 (traditional)\, 9:50 & 11:10 AM (modern) \nChildren’s Sunday Mornings: 9:50 & 11:10 AM\nNursery available at all services. \nMosaic Ministry: 11:10 AM \nYouth Sunday Mornings: 9:50 AM \nOnline: 11 AM \n  \n  \nHow to Watch Online: \nFacebook Live: facebook.com/middletownchristianchurch \nYouTube Live: https://www.youtube.com/@middletownchristianchurch3572
URL:https://middletownchristian.org/event/sunday-worship-in-person-online-2/
CATEGORIES:Worship
ATTACH;FMTTYPE=image/png:https://middletownchristian.org/wp-content/uploads/2024/03/Sunday-Worship-Slide-1.png
END:VEVENT
BEGIN:VEVENT
DTSTART;TZID=America/Kentucky/Louisville:20260412T083000
DTEND;TZID=America/Kentucky/Louisville:20260412T111000
DTSTAMP:20260423T060725
CREATED:20260114T143711Z
LAST-MODIFIED:20260325T172325Z
UID:10051-1775982600-1775992200@middletownchristian.org
SUMMARY:Sunday Worship: In-Person & Online
DESCRIPTION:Join us for worship online and in-person on Sundays! \n  \nIn-Person:  8:30 (traditional)\, 9:50 & 11:10 AM (modern) \nChildren’s Sunday Mornings: 9:50 & 11:10 AM\nNursery available at all services. \nMosaic Ministry: 11:10 AM \nYouth Sunday Mornings: 9:50 AM \nOnline: 11 AM \n  \n  \nHow to Watch Online: \nFacebook Live: facebook.com/middletownchristianchurch \nYouTube Live: https://www.youtube.com/@middletownchristianchurch3572
URL:https://middletownchristian.org/event/sunday-worship-in-person-online/
CATEGORIES:Worship
ATTACH;FMTTYPE=image/png:https://middletownchristian.org/wp-content/uploads/2024/03/Sunday-Worship-Slide-1.png
END:VEVENT
BEGIN:VEVENT
DTSTART;TZID=America/Kentucky/Louisville:20260405T083000
DTEND;TZID=America/Kentucky/Louisville:20260405T111000
DTSTAMP:20260423T060725
CREATED:20260325T172130Z
LAST-MODIFIED:20260325T172211Z
UID:10136-1775377800-1775387400@middletownchristian.org
SUMMARY:Easter Worship at Middletown
DESCRIPTION:Celebrate Easter at Middletown!\n\nJoin us on Sunday\, April 5th at 8:30 AM (traditional)\, 9:50 & 11:10 AM (modern) for a joyful morning celebrating the new life and new hope we have in Jesus Christ.\nMiddletown Christian Church is an inclusive congregation and welcomes all people\, without exception\, to gather with us. Invite a friend or family member to come check us out on Easter!\n\nYouth Worship at 9:50 AM.Children’s Worship at 9:50 AM & 11:10 AM.Mosaic Ministry (all ages special needs) at 11:10 AM.Nursery available at all services.\n\nOnline worship at 11 AM on Facebook & YouTube.\n\nHow to Watch Online: \nFacebook Live: facebook.com/middletownchristianchurch \nYouTube Live: https://www.youtube.com/@middletownchristianchurch3572
URL:https://middletownchristian.org/event/easter-worship-at-middletown/
CATEGORIES:Worship
ATTACH;FMTTYPE=image/jpeg:https://middletownchristian.org/wp-content/uploads/2026/03/easter-2026-graphic.jpg
END:VEVENT
BEGIN:VEVENT
DTSTART;TZID=America/Kentucky/Louisville:20260329T083000
DTEND;TZID=America/Kentucky/Louisville:20260329T111000
DTSTAMP:20260423T060725
CREATED:20220104T180508Z
LAST-MODIFIED:20260303T145523Z
UID:6444-1774773000-1774782600@middletownchristian.org
SUMMARY:Sunday Worship: In-Person & Online
DESCRIPTION:Join us for worship online and in-person on Sundays! \n  \nIn-Person:  8:30 (traditional)\, 9:50 & 11:10 AM (modern) \nChildren’s Sunday Mornings: 9:50 & 11:10 AM\nNursery available at all services. \nMosaic Ministry: 11:10 AM \nYouth Sunday Mornings: 9:50 AM \nOnline: 11 AM \n  \n  \nHow to Watch Online: \nFacebook Live: facebook.com/middletownchristianchurch \nYouTube Live: https://www.youtube.com/@middletownchristianchurch3572
URL:https://middletownchristian.org/event/sunday-worship-in-person-online-11/
CATEGORIES:Worship
ATTACH;FMTTYPE=image/png:https://middletownchristian.org/wp-content/uploads/2024/03/Sunday-Worship-Slide-1.png
END:VEVENT
BEGIN:VEVENT
DTSTART;TZID=America/Kentucky/Louisville:20260301T095000
DTEND;TZID=America/Kentucky/Louisville:20260301T111000
DTSTAMP:20260423T060725
CREATED:20260203T162836Z
LAST-MODIFIED:20260203T162836Z
UID:10064-1772358600-1772363400@middletownchristian.org
SUMMARY:MCC Kids Musical: Once Upon a Parable
DESCRIPTION:On Sunday\, March 1st\, MCC Kids will lead us in worship with their musical Once Upon a Parable. Join us for this journey through the parable of Jesus at 9:50 AM and 11:10 AM in the sanctuary. There will be no online worship or 8:30 AM service.
URL:https://middletownchristian.org/event/mcc-kids-musical-once-upon-a-parable/
CATEGORIES:Worship
ATTACH;FMTTYPE=image/jpeg:https://middletownchristian.org/wp-content/uploads/2026/02/Once-Upon-a-Parable-2025-Main-Graphic.jpg
END:VEVENT
BEGIN:VEVENT
DTSTART;TZID=America/Kentucky/Louisville:20260218T183000
DTEND;TZID=America/Kentucky/Louisville:20260218T183000
DTSTAMP:20260423T060725
CREATED:20250220T174127Z
LAST-MODIFIED:20260204T174419Z
UID:9469-1771439400-1771439400@middletownchristian.org
SUMMARY:Ash Wednesday Worship Service
DESCRIPTION:Join us for a brief worship service marking Ash Wednesday\, the first day of Lent. This service will include the imposition of ashes.
URL:https://middletownchristian.org/event/ash-wednesday-worship-service/
CATEGORIES:Worship
ATTACH;FMTTYPE=image/png:https://middletownchristian.org/wp-content/uploads/2025/02/Ash-Wednesday-Service-25-1.png
END:VEVENT
BEGIN:VEVENT
DTSTART;TZID=America/Kentucky/Louisville:20251228T100000
DTEND;TZID=America/Kentucky/Louisville:20251228T100000
DTSTAMP:20260423T060725
CREATED:20220525T151859Z
LAST-MODIFIED:20251211T161434Z
UID:6901-1766916000-1766916000@middletownchristian.org
SUMMARY:Sunday Worship: In-Person ONLY
DESCRIPTION:Join us for worship in-person at 10 AM ONLY. \nNO ONLINE WORSHIP. \nChildren will watch a movie in the kids wing. Nursery and Mosaic also available.\nNo Gathering for the Youth. \n  \n 
URL:https://middletownchristian.org/event/sunday-worship-online-in-person-2/
CATEGORIES:Worship
ATTACH;FMTTYPE=image/png:https://middletownchristian.org/wp-content/uploads/2022/05/December-28-Worship.png
END:VEVENT
BEGIN:VEVENT
DTSTART;TZID=America/Kentucky/Louisville:20251224T210000
DTEND;TZID=America/Kentucky/Louisville:20251224T210000
DTSTAMP:20260423T060725
CREATED:20241112T173718Z
LAST-MODIFIED:20251124T164704Z
UID:9228-1766610000-1766610000@middletownchristian.org
SUMMARY:Christmas Eve Worship
DESCRIPTION:Join us as we celebrate the birth of our Savior with carols\, communion\, and candlelight. Christmas Eve worship will be at 5 PM\, 7 PM\, and 9 PM. \n  \nNursery (birth-2 yrs) available at 5 PM ONLY.
URL:https://middletownchristian.org/event/christmas-eve-worship-3/
CATEGORIES:Worship
ATTACH;FMTTYPE=image/jpeg:https://middletownchristian.org/wp-content/uploads/2024/11/CHRISTMAS-EVE-2025.jpg
END:VEVENT
BEGIN:VEVENT
DTSTART;TZID=America/Kentucky/Louisville:20251224T190000
DTEND;TZID=America/Kentucky/Louisville:20251224T190000
DTSTAMP:20260423T060725
CREATED:20241112T173635Z
LAST-MODIFIED:20251124T164736Z
UID:9226-1766602800-1766602800@middletownchristian.org
SUMMARY:Christmas Eve Worship
DESCRIPTION:Join us as we celebrate the birth of our Savior with carols\, communion\, and candlelight. Christmas Eve worship will be at 5 PM\, 7 PM\, and 9 PM. \n  \nNursery (birth-2 yrs) available at 5 PM ONLY.
URL:https://middletownchristian.org/event/christmas-eve-worship-2/
CATEGORIES:Worship
ATTACH;FMTTYPE=image/jpeg:https://middletownchristian.org/wp-content/uploads/2024/11/CHRISTMAS-EVE-2025.jpg
END:VEVENT
BEGIN:VEVENT
DTSTART;TZID=America/Kentucky/Louisville:20251224T170000
DTEND;TZID=America/Kentucky/Louisville:20251224T170000
DTSTAMP:20260423T060725
CREATED:20241112T173556Z
LAST-MODIFIED:20251124T164811Z
UID:9223-1766595600-1766595600@middletownchristian.org
SUMMARY:Christmas Eve Worship
DESCRIPTION:Join us as we celebrate the birth of our Savior with carols\, communion\, and candlelight. Christmas Eve worship will be at 5 PM\, 7 PM\, and 9 PM. \n  \nNursery (birth-2 yrs) available at 5 PM ONLY.
URL:https://middletownchristian.org/event/christmas-eve-worship/
CATEGORIES:Worship
ATTACH;FMTTYPE=image/jpeg:https://middletownchristian.org/wp-content/uploads/2024/11/CHRISTMAS-EVE-2025.jpg
END:VEVENT
BEGIN:VEVENT
DTSTART;TZID=America/Kentucky/Louisville:20250810T083000
DTEND;TZID=America/Kentucky/Louisville:20250810T111000
DTSTAMP:20260423T060725
CREATED:20250724T171451Z
LAST-MODIFIED:20250724T171451Z
UID:9696-1754814600-1754824200@middletownchristian.org
SUMMARY:Donut Sunday
DESCRIPTION:To celebrate the beginning of the new school year and a return to our regularly scheduled ministries\, we’re getting donuts for everyone! Join us for the start of a new series\, learn how to get involved this fall\, and invite a friend to join us. \nAllergy-friendly donuts will be available. \n  \n  \nIn-Person:  8:30\, 9:50\, & 11:10 AM \nChildren’s Sunday Mornings: 9:50 & 11:10 AM\nNursery available at all services. \nYouth Sunday Mornings: 9:50 AM \nOnline: 11 AM \n  \n  \nHow to Watch Online: \nFacebook Live: facebook.com/middletownchristianchurch \nYouTube Live: https://www.youtube.com/@middletownchristianchurch3572 \n  \nIf you have questions\, please contact Rachel Freeny at rfreeny@middletownchristian.org prior to Sunday. Thanks!
URL:https://middletownchristian.org/event/donut-sunday/
CATEGORIES:Worship
ATTACH;FMTTYPE=image/png:https://middletownchristian.org/wp-content/uploads/2025/07/Donut-Sunday-2025.png
END:VEVENT
BEGIN:VEVENT
DTSTART;TZID=America/Kentucky/Louisville:20250420T083000
DTEND;TZID=America/Kentucky/Louisville:20250420T111000
DTSTAMP:20260423T060725
CREATED:20250408T190043Z
LAST-MODIFIED:20250408T190106Z
UID:9573-1745137800-1745147400@middletownchristian.org
SUMMARY:Easter Worship
DESCRIPTION:Join us for worship online and in-person on Sundays! \n  \nIn-Person:  8:30 (traditional)\, 9:50 & 11:10 AM (modern) \nChildren’s Sunday Mornings: 9:50 & 11:10 AM\nNursery available at all services.\nYouth Sunday Mornings: 9:50 AM \nOnline: 11 AM \n  \n  \nHow to Watch Online: \nFacebook Live: facebook.com/middletownchristianchurch \nYouTube Live: https://www.youtube.com/@middletownchristianchurch3572
URL:https://middletownchristian.org/event/easter-worship/
CATEGORIES:Worship
ATTACH;FMTTYPE=image/jpeg:https://middletownchristian.org/wp-content/uploads/2024/02/Easter-2024-Slide.jpg
END:VEVENT
BEGIN:VEVENT
DTSTART;TZID=America/Kentucky/Louisville:20250413T083000
DTEND;TZID=America/Kentucky/Louisville:20250413T111000
DTSTAMP:20260423T060725
CREATED:20250408T185953Z
LAST-MODIFIED:20250408T190132Z
UID:9571-1744533000-1744542600@middletownchristian.org
SUMMARY:Palm Sunday Worship
DESCRIPTION:Join us for worship online and in-person on Sundays! \n  \nIn-Person:  8:30 (traditional)\, 9:50 & 11:10 AM (modern) \nChildren’s Sunday Mornings: 9:50 & 11:10 AM\nNursery available at all services.\nYouth Sunday Mornings: 9:50 AM \nOnline: 11 AM \n  \n  \nHow to Watch Online: \nFacebook Live: facebook.com/middletownchristianchurch \nYouTube Live: https://www.youtube.com/@middletownchristianchurch3572
URL:https://middletownchristian.org/event/palm-sunday-worship/
CATEGORIES:Worship
ATTACH;FMTTYPE=image/png:https://middletownchristian.org/wp-content/uploads/2020/04/Palm-Sunday-Worship-Enews.png
END:VEVENT
BEGIN:VEVENT
DTSTART;TZID=America/Kentucky/Louisville:20250302T095000
DTEND;TZID=America/Kentucky/Louisville:20250302T111000
DTSTAMP:20260423T060725
CREATED:20250211T160317Z
LAST-MODIFIED:20250211T190836Z
UID:9419-1740909000-1740913800@middletownchristian.org
SUMMARY:MCC Kids Musical: Elijah Rock
DESCRIPTION:Don’t miss the amazing Middletown Kids Choir as they perform the musical “Elijah Rock” on Sunday\, March 2 at 9:50 & 11:10 AM in the sanctuary. \nNo 8:30 AM service or online service. \nNo children’s ministry\, but nursery is available.
URL:https://middletownchristian.org/event/mcc-kids-musical-elijah-rock/
CATEGORIES:Worship
ATTACH;FMTTYPE=image/jpeg:https://middletownchristian.org/wp-content/uploads/2025/02/Elijah-Rock-Web.jpg
END:VEVENT
BEGIN:VEVENT
DTSTART;TZID=America/Kentucky/Louisville:20241229T110000
DTEND;TZID=America/Kentucky/Louisville:20241229T110000
DTSTAMP:20260423T060725
CREATED:20241125T190530Z
LAST-MODIFIED:20241125T190530Z
UID:9278-1735470000-1735470000@middletownchristian.org
SUMMARY:New Year's Worship
DESCRIPTION:Join us for worship online and in-person at 11 AM ONLY. \nChildren’s worship will include a movie\, popcorn\, and PJ’s. \n  \n  \nHow to Watch Online: \nFacebook Live: facebook.com/middletownchristianchurch \nYouTube Live: https://www.youtube.com/@middletownchristianchurch3572
URL:https://middletownchristian.org/event/new-years-worship/
CATEGORIES:Worship
ATTACH;FMTTYPE=image/png:https://middletownchristian.org/wp-content/uploads/2024/11/NEW-Years-Worship.png
END:VEVENT
BEGIN:VEVENT
DTSTART;TZID=America/Kentucky/Louisville:20240811T083000
DTEND;TZID=America/Kentucky/Louisville:20240811T111000
DTSTAMP:20260423T060725
CREATED:20220104T180604Z
LAST-MODIFIED:20240731T185329Z
UID:6446-1723365000-1723374600@middletownchristian.org
SUMMARY:Sunday Worship: In-Person & Online
DESCRIPTION:Join us for our annual celebration of the new school year with Donut Sunday at all services on August 11. Regular and gluten-free donuts will be available! Invite a friend to check us out. \n  \nIn-Person:  8:30\, 9:50\, & 11:10 AM \nChildren’s Sunday Mornings: 9:50 & 11:10 AM\nNursery available at all services. \nOnline: 11 AM \n  \n  \nHow to Watch Online: \nFacebook Live: facebook.com/middletownchristianchurch \nYouTube Live: https://www.youtube.com/@middletownchristianchurch3572 \n  \nIf you have questions\, please contact Rachel Freeny at rfreeny@middletownchristian.org prior to Sunday. Thanks!
URL:https://middletownchristian.org/event/sunday-worship-in-person-online-12/
CATEGORIES:Worship
ATTACH;FMTTYPE=image/png:https://middletownchristian.org/wp-content/uploads/2024/07/Donut-Sunday-2024.png
END:VEVENT
END:VCALENDAR