BEGIN:VCALENDAR
VERSION:2.0
PRODID:-//Middletown Christian Church - ECPv6.15.18//NONSGML v1.0//EN
CALSCALE:GREGORIAN
METHOD:PUBLISH
X-WR-CALNAME:Middletown Christian Church
X-ORIGINAL-URL:https://middletownchristian.org
X-WR-CALDESC:Events for Middletown Christian Church
REFRESH-INTERVAL;VALUE=DURATION:PT1H
X-Robots-Tag:noindex
X-PUBLISHED-TTL:PT1H
BEGIN:VTIMEZONE
TZID:America/Kentucky/Louisville
BEGIN:DAYLIGHT
TZOFFSETFROM:-0500
TZOFFSETTO:-0400
TZNAME:EDT
DTSTART:20250309T070000
END:DAYLIGHT
BEGIN:STANDARD
TZOFFSETFROM:-0400
TZOFFSETTO:-0500
TZNAME:EST
DTSTART:20251102T060000
END:STANDARD
BEGIN:DAYLIGHT
TZOFFSETFROM:-0500
TZOFFSETTO:-0400
TZNAME:EDT
DTSTART:20260308T070000
END:DAYLIGHT
BEGIN:STANDARD
TZOFFSETFROM:-0400
TZOFFSETTO:-0500
TZNAME:EST
DTSTART:20261101T060000
END:STANDARD
BEGIN:DAYLIGHT
TZOFFSETFROM:-0500
TZOFFSETTO:-0400
TZNAME:EDT
DTSTART:20270314T070000
END:DAYLIGHT
BEGIN:STANDARD
TZOFFSETFROM:-0400
TZOFFSETTO:-0500
TZNAME:EST
DTSTART:20271107T060000
END:STANDARD
END:VTIMEZONE
BEGIN:VEVENT
DTSTART;TZID=America/Kentucky/Louisville:20260405T083000
DTEND;TZID=America/Kentucky/Louisville:20260405T111000
DTSTAMP:20260423T074051
CREATED:20260325T172130Z
LAST-MODIFIED:20260325T172211Z
UID:10136-1775377800-1775387400@middletownchristian.org
SUMMARY:Easter Worship at Middletown
DESCRIPTION:Celebrate Easter at Middletown!\n\nJoin us on Sunday\, April 5th at 8:30 AM (traditional)\, 9:50 & 11:10 AM (modern) for a joyful morning celebrating the new life and new hope we have in Jesus Christ.\nMiddletown Christian Church is an inclusive congregation and welcomes all people\, without exception\, to gather with us. Invite a friend or family member to come check us out on Easter!\n\nYouth Worship at 9:50 AM.Children’s Worship at 9:50 AM & 11:10 AM.Mosaic Ministry (all ages special needs) at 11:10 AM.Nursery available at all services.\n\nOnline worship at 11 AM on Facebook & YouTube.\n\nHow to Watch Online: \nFacebook Live: facebook.com/middletownchristianchurch \nYouTube Live: https://www.youtube.com/@middletownchristianchurch3572
URL:https://middletownchristian.org/event/easter-worship-at-middletown/
CATEGORIES:Worship
ATTACH;FMTTYPE=image/jpeg:https://middletownchristian.org/wp-content/uploads/2026/03/easter-2026-graphic.jpg
END:VEVENT
END:VCALENDAR