BEGIN:VCALENDAR
VERSION:2.0
PRODID:-//Middletown Christian Church - ECPv6.15.18//NONSGML v1.0//EN
CALSCALE:GREGORIAN
METHOD:PUBLISH
X-ORIGINAL-URL:https://middletownchristian.org
X-WR-CALDESC:Events for Middletown Christian Church
REFRESH-INTERVAL;VALUE=DURATION:PT1H
X-Robots-Tag:noindex
X-PUBLISHED-TTL:PT1H
BEGIN:VTIMEZONE
TZID:America/Kentucky/Louisville
BEGIN:DAYLIGHT
TZOFFSETFROM:-0500
TZOFFSETTO:-0400
TZNAME:EDT
DTSTART:20250309T070000
END:DAYLIGHT
BEGIN:STANDARD
TZOFFSETFROM:-0400
TZOFFSETTO:-0500
TZNAME:EST
DTSTART:20251102T060000
END:STANDARD
BEGIN:DAYLIGHT
TZOFFSETFROM:-0500
TZOFFSETTO:-0400
TZNAME:EDT
DTSTART:20260308T070000
END:DAYLIGHT
BEGIN:STANDARD
TZOFFSETFROM:-0400
TZOFFSETTO:-0500
TZNAME:EST
DTSTART:20261101T060000
END:STANDARD
BEGIN:DAYLIGHT
TZOFFSETFROM:-0500
TZOFFSETTO:-0400
TZNAME:EDT
DTSTART:20270314T070000
END:DAYLIGHT
BEGIN:STANDARD
TZOFFSETFROM:-0400
TZOFFSETTO:-0500
TZNAME:EST
DTSTART:20271107T060000
END:STANDARD
END:VTIMEZONE
BEGIN:VEVENT
DTSTART;TZID=America/Kentucky/Louisville:20260301T095000
DTEND;TZID=America/Kentucky/Louisville:20260301T111000
DTSTAMP:20260423T074052
CREATED:20260203T162836Z
LAST-MODIFIED:20260203T162836Z
UID:10064-1772358600-1772363400@middletownchristian.org
SUMMARY:MCC Kids Musical: Once Upon a Parable
DESCRIPTION:On Sunday\, March 1st\, MCC Kids will lead us in worship with their musical Once Upon a Parable. Join us for this journey through the parable of Jesus at 9:50 AM and 11:10 AM in the sanctuary. There will be no online worship or 8:30 AM service.
URL:https://middletownchristian.org/event/mcc-kids-musical-once-upon-a-parable/
CATEGORIES:Worship
ATTACH;FMTTYPE=image/jpeg:https://middletownchristian.org/wp-content/uploads/2026/02/Once-Upon-a-Parable-2025-Main-Graphic.jpg
END:VEVENT
BEGIN:VEVENT
DTSTART;TZID=America/Kentucky/Louisville:20260329T083000
DTEND;TZID=America/Kentucky/Louisville:20260329T111000
DTSTAMP:20260423T074052
CREATED:20220104T180508Z
LAST-MODIFIED:20260303T145523Z
UID:6444-1774773000-1774782600@middletownchristian.org
SUMMARY:Sunday Worship: In-Person & Online
DESCRIPTION:Join us for worship online and in-person on Sundays! \n  \nIn-Person:  8:30 (traditional)\, 9:50 & 11:10 AM (modern) \nChildren’s Sunday Mornings: 9:50 & 11:10 AM\nNursery available at all services. \nMosaic Ministry: 11:10 AM \nYouth Sunday Mornings: 9:50 AM \nOnline: 11 AM \n  \n  \nHow to Watch Online: \nFacebook Live: facebook.com/middletownchristianchurch \nYouTube Live: https://www.youtube.com/@middletownchristianchurch3572
URL:https://middletownchristian.org/event/sunday-worship-in-person-online-11/
CATEGORIES:Worship
ATTACH;FMTTYPE=image/png:https://middletownchristian.org/wp-content/uploads/2024/03/Sunday-Worship-Slide-1.png
END:VEVENT
END:VCALENDAR