BEGIN:VCALENDAR
VERSION:2.0
PRODID:-//Middletown Christian Church - ECPv6.15.18//NONSGML v1.0//EN
CALSCALE:GREGORIAN
METHOD:PUBLISH
X-ORIGINAL-URL:https://middletownchristian.org
X-WR-CALDESC:Events for Middletown Christian Church
REFRESH-INTERVAL;VALUE=DURATION:PT1H
X-Robots-Tag:noindex
X-PUBLISHED-TTL:PT1H
BEGIN:VTIMEZONE
TZID:America/Kentucky/Louisville
BEGIN:DAYLIGHT
TZOFFSETFROM:-0500
TZOFFSETTO:-0400
TZNAME:EDT
DTSTART:20240310T070000
END:DAYLIGHT
BEGIN:STANDARD
TZOFFSETFROM:-0400
TZOFFSETTO:-0500
TZNAME:EST
DTSTART:20241103T060000
END:STANDARD
BEGIN:DAYLIGHT
TZOFFSETFROM:-0500
TZOFFSETTO:-0400
TZNAME:EDT
DTSTART:20250309T070000
END:DAYLIGHT
BEGIN:STANDARD
TZOFFSETFROM:-0400
TZOFFSETTO:-0500
TZNAME:EST
DTSTART:20251102T060000
END:STANDARD
BEGIN:DAYLIGHT
TZOFFSETFROM:-0500
TZOFFSETTO:-0400
TZNAME:EDT
DTSTART:20260308T070000
END:DAYLIGHT
BEGIN:STANDARD
TZOFFSETFROM:-0400
TZOFFSETTO:-0500
TZNAME:EST
DTSTART:20261101T060000
END:STANDARD
BEGIN:DAYLIGHT
TZOFFSETFROM:-0500
TZOFFSETTO:-0400
TZNAME:EDT
DTSTART:20270314T070000
END:DAYLIGHT
BEGIN:STANDARD
TZOFFSETFROM:-0400
TZOFFSETTO:-0500
TZNAME:EST
DTSTART:20271107T060000
END:STANDARD
END:VTIMEZONE
BEGIN:VEVENT
DTSTART;TZID=America/Kentucky/Louisville:20250803T180000
DTEND;TZID=America/Kentucky/Louisville:20250803T200000
DTSTAMP:20260424T035914
CREATED:20250714T174058Z
LAST-MODIFIED:20250714T174058Z
UID:9670-1754244000-1754251200@middletownchristian.org
SUMMARY:Children and Youth Volunteer Training
DESCRIPTION:Want to make a difference in Kids’ or Youth Ministry? Come be part of the fun and join us for volunteer training at 6 p.m. on Sunday\, August 3! Dinner is provided for volunteers. Childcare offered for kids from birth through fifth grade. Please note that this event’s childcare is offered by MCC Youth.  \nYouth Volunteer Needs: \n\nThe Gathering (Sunday mornings) worship\nSunday Morning Tech Volunteer\nConnect Group Leader\nSNY (Sunday Nights) Small Group Leader\nSNY “Gigi’s Diner” Youth Dinner Team\n\nChildren’s Ministry Volunteer Needs: \n\nSmall group Assistants at 9:50am\nKindergarten small group leader twice month at 9:50am\nMosaic Ministry leaders at 11:10am\n\n  \nSign up Here
URL:https://middletownchristian.org/event/children-and-youth-volunteer-training-2/
CATEGORIES:Children,Churchwide,Students
ATTACH;FMTTYPE=image/png:https://middletownchristian.org/wp-content/uploads/2025/07/CM-Volunteer-Training-2.png
END:VEVENT
BEGIN:VEVENT
DTSTART;TZID=America/Kentucky/Louisville:20250823T193000
DTEND;TZID=America/Kentucky/Louisville:20250823T213000
DTSTAMP:20260424T035914
CREATED:20250603T153508Z
LAST-MODIFIED:20250603T153508Z
UID:9639-1755977400-1755984600@middletownchristian.org
SUMMARY:End of Summer Splash Bash
DESCRIPTION:MCC Youth & MCC Kids are partnering for a fun end-of-summer SPLASH BASH! Join us for a private pool party (yep\, it’s just us!) at the Oldham County Aquatic Center on Saturday\, August 23\, from 7:30-9:30 pm. Just bring yourself\, your fam\, and your favorite towel and pool floaties. No outside food or drinks are allowed\, but the concession stand will be open so that you may bring money for treats. \nWe have a limited number of spots\, so be sure to sign up in advance and let us know how many are coming with you! \nSign Up Below:
URL:https://middletownchristian.org/event/end-of-summer-splash-bash/
LOCATION:Oldham County Acquatic Center\, 1551 KY-393\, La Grange\, KY\, 40031\, United States
CATEGORIES:Children,Churchwide,Students
ATTACH;FMTTYPE=image/png:https://middletownchristian.org/wp-content/uploads/2025/06/End-of-Summer-Splash-Bash-2.png
END:VEVENT
BEGIN:VEVENT
DTSTART;VALUE=DATE:20250919
DTEND;VALUE=DATE:20250922
DTSTAMP:20260424T035914
CREATED:20250728T132803Z
LAST-MODIFIED:20250728T132803Z
UID:9708-1758240000-1758499199@middletownchristian.org
SUMMARY:Middle School Retreat
DESCRIPTION:Hey middle schoolers! If you’ve ever played a video game\, you know what it’s like to defeat the boss level! This year’s retreat theme is BOSS… where we’ll take on the gods of self\, of stuff\, and of fear to make real space for God in our lives. We’ll be back at Country Lake for a great weekend full of fun and games (did someone say ZIPLINE!?)\, building community\, and experiencing God in new ways. \nDates: September 19-21\nCost: $175 per person (*Additional siblings = $150)\nRegistration deadline: September 1\nCamper/Parent meeting: September 14 \nSign up and pay here!
URL:https://middletownchristian.org/event/middle-school-retreat/
CATEGORIES:Students
ATTACH;FMTTYPE=image/png:https://middletownchristian.org/wp-content/uploads/2025/07/Boss-MS-Retreat-2025.png
END:VEVENT
BEGIN:VEVENT
DTSTART;VALUE=DATE:20251108
DTEND;VALUE=DATE:20251110
DTSTAMP:20260424T035914
CREATED:20250918T195920Z
LAST-MODIFIED:20250918T195920Z
UID:9835-1762560000-1762732799@middletownchristian.org
SUMMARY:Arise Weekend
DESCRIPTION:Join us for an amazing in-town\, overnight\, mini-retreat focusing on outreach\, community\, and deeper discipleship at this year’s ARISE Weekend. Our theme this year is “Let’s Go!” as we’ll focus on hearing and responding to God’s call in each of our lives. ARISE Weekend is open to all Middle & High School students. We’ll begin our time together with breakfast on Saturday morning and wrap it all up at The Gathering on Sunday. We’d love to have your student join us! \nREGISTER AND PAY HERE \n 
URL:https://middletownchristian.org/event/arise-weekend-2/
CATEGORIES:Students
ATTACH;FMTTYPE=image/jpeg:https://middletownchristian.org/wp-content/uploads/2025/09/AW25.jpg
END:VEVENT
BEGIN:VEVENT
DTSTART;VALUE=DATE:20260116
DTEND;VALUE=DATE:20260120
DTSTAMP:20260424T035914
CREATED:20251030T143107Z
LAST-MODIFIED:20251030T143107Z
UID:9909-1768521600-1768867199@middletownchristian.org
SUMMARY:High School Retreat 2026
DESCRIPTION:This is a unique opportunity for our High School students to get away from the day-to-day\, to build community with mixed small groups\, and to go deeper in their faith through worship\, prayer\, and experiencing God in a fresh new way. \nDates: January 16-19\nLocation: Camp Wartburg\, St Louis MO\nCost: $195 / additional siblings $145 ($50 deposit due at registration)\nRegistration closes: December 21\nParticipant/Parent Meeting: January 11 (final payments due) \nContact: Becky Schroeder\, bschroeder@middletownchristian.org \nREGISTER HERE
URL:https://middletownchristian.org/event/high-school-retreat-2026/
CATEGORIES:Students
ATTACH;FMTTYPE=image/jpeg:https://middletownchristian.org/wp-content/uploads/2025/10/HS-Retreat-26.jpg
END:VEVENT
BEGIN:VEVENT
DTSTART;TZID=America/Kentucky/Louisville:20260327T180000
DTEND;TZID=America/Kentucky/Louisville:20260327T180000
DTSTAMP:20260424T035914
CREATED:20260209T163339Z
LAST-MODIFIED:20260209T170258Z
UID:10077-1774634400-1774634400@middletownchristian.org
SUMMARY:Youth Late Night
DESCRIPTION:  \nGAMES / FOOD / PRIZES / FUN\n6PM-MIDNIGHT\nCOST: $50 \nAll Middle & High School students! Get ready for an amazing night of fun and games\, with activities here at church and out on the town\, at this year’s YOUTH LATE NIGHT on Friday\, March 27. We’ll start at church at 6:00 and end at church at midnight. Registration closes on March 18. Get signed up today… and tell your friends! \nRegister Here
URL:https://middletownchristian.org/event/youth-late-night-2/
LOCATION:Middletown Christian – Youth Center\, 500 N. Watterson Trail\, Louisville\, KY\, 40243\, United States
CATEGORIES:Students
ATTACH;FMTTYPE=image/jpeg:https://middletownchristian.org/wp-content/uploads/2026/02/YouthLateNight.jpg
END:VEVENT
BEGIN:VEVENT
DTSTART;VALUE=DATE:20260603
DTEND;VALUE=DATE:20260604
DTSTAMP:20260424T035914
CREATED:20260407T172130Z
LAST-MODIFIED:20260407T172130Z
UID:10154-1780444800-1780531199@middletownchristian.org
SUMMARY:MCC Youth King's Island Trip
DESCRIPTION:Middle & High School students are invited to spend the day with us at Kings Island! We’ll meet at church at 8:30am and will provide transportation from here. We plan to be back at church for pick-up around 9pm\, but we’ll be sure your student communicates specifics with you as we’re headed back! Cost per ticket is $70 and includes admission\, transportation\, and one full meal inside the park. \n*Parents – we’d love to have you join us! Just look for the “Chaperone” ticket option! \nContact: Becky Schroeder\, bschroeder@middletownchristian.org \nSIGN UP HERE
URL:https://middletownchristian.org/event/mcc-youth-kings-island-trip/
CATEGORIES:Students
ATTACH;FMTTYPE=image/jpeg:https://middletownchristian.org/wp-content/uploads/2026/04/Kings-Island-Flyer.jpg
END:VEVENT
BEGIN:VEVENT
DTSTART;VALUE=DATE:20260614
DTEND;VALUE=DATE:20260819
DTSTAMP:20260424T035914
CREATED:20250926T154234Z
LAST-MODIFIED:20250926T154234Z
UID:9843-1781395200-1787097599@middletownchristian.org
SUMMARY:Passport: Missions Youth Summer Camp
DESCRIPTION:Dates: June 14-18\, 2026 \nLocation: Less-McRae College\, 191 Main St W\, Banner Elk NC 28604 \nCost: $498 (only deposit of $50 is due upon registration) \nGet ready for another exciting week at Passport this summer for all Middle & High School students! Passport: Missions is an amazing week of summer camp with a focus on outreach and what it means to be part of the bigger family of God as we serve\, worship\, learn – and of course\, have fun – alongside youth from other likeminded churches from around the country. And this year\, we’re at a new location as we’ll head out to Lees-McRae College in North Carolina. It’s going to be a great week\, and we hope your student will join us! You can learn more about Passport at PASSPORTmissions | Christian Summer Camps For Youth Groups. \n*Please note – This week of camp WILL fill up\, and our spots are limited! Reserve your spot early with your deposit\, and you have all the way up until May to pay off your balance. \nREGISTER & PAY HERE: https://www.vancoevents.com/us/DIKI
URL:https://middletownchristian.org/event/passport-missions-youth-summer-camp/
CATEGORIES:Students
ATTACH;FMTTYPE=image/jpeg:https://middletownchristian.org/wp-content/uploads/2025/09/Youth-Passport-2026.jpg
END:VEVENT
END:VCALENDAR