BEGIN:VCALENDAR
VERSION:2.0
PRODID:-//Middletown Christian Church - ECPv6.15.18//NONSGML v1.0//EN
CALSCALE:GREGORIAN
METHOD:PUBLISH
X-WR-CALNAME:Middletown Christian Church
X-ORIGINAL-URL:https://middletownchristian.org
X-WR-CALDESC:Events for Middletown Christian Church
REFRESH-INTERVAL;VALUE=DURATION:PT1H
X-Robots-Tag:noindex
X-PUBLISHED-TTL:PT1H
BEGIN:VTIMEZONE
TZID:America/Kentucky/Louisville
BEGIN:DAYLIGHT
TZOFFSETFROM:-0500
TZOFFSETTO:-0400
TZNAME:EDT
DTSTART:20230312T070000
END:DAYLIGHT
BEGIN:STANDARD
TZOFFSETFROM:-0400
TZOFFSETTO:-0500
TZNAME:EST
DTSTART:20231105T060000
END:STANDARD
BEGIN:DAYLIGHT
TZOFFSETFROM:-0500
TZOFFSETTO:-0400
TZNAME:EDT
DTSTART:20240310T070000
END:DAYLIGHT
BEGIN:STANDARD
TZOFFSETFROM:-0400
TZOFFSETTO:-0500
TZNAME:EST
DTSTART:20241103T060000
END:STANDARD
BEGIN:DAYLIGHT
TZOFFSETFROM:-0500
TZOFFSETTO:-0400
TZNAME:EDT
DTSTART:20250309T070000
END:DAYLIGHT
BEGIN:STANDARD
TZOFFSETFROM:-0400
TZOFFSETTO:-0500
TZNAME:EST
DTSTART:20251102T060000
END:STANDARD
BEGIN:DAYLIGHT
TZOFFSETFROM:-0500
TZOFFSETTO:-0400
TZNAME:EDT
DTSTART:20260308T070000
END:DAYLIGHT
BEGIN:STANDARD
TZOFFSETFROM:-0400
TZOFFSETTO:-0500
TZNAME:EST
DTSTART:20261101T060000
END:STANDARD
END:VTIMEZONE
BEGIN:VEVENT
DTSTART;VALUE=DATE:20250321
DTEND;VALUE=DATE:20250323
DTSTAMP:20260422T232056
CREATED:20250225T191011Z
LAST-MODIFIED:20250225T191011Z
UID:9481-1742515200-1742687999@middletownchristian.org
SUMMARY:Youth Late Night
DESCRIPTION:Get ready for an exciting night for you and your friends at Youth Late Night! Friday night\, March 21\, 6pm til midnight — starting and ending right here at MCC\, and packed full of games at church and adventures around town (unlimited games and attractions at Malibu Jacks for one!)\, food\, prizes\, and so much fun! Youth Late Night is for all middle & high school students… and it’s a BRING-A-FRIEND event\, so invite a friend\, make sure they register here\, and you’ll BOTH be entered to win an amazing prize that night. Registration closes Tuesday\, March 18! \nTime/Date: 6 PM Friday\, March 21 – 12:00 AM Saturday\, March 22. \nCost: $50 \nREGISTER AND PAY HERE
URL:https://middletownchristian.org/event/youth-late-night/
CATEGORIES:Students
ATTACH;FMTTYPE=image/jpeg:https://middletownchristian.org/wp-content/uploads/2025/02/YouthLateNight.jpg
END:VEVENT
BEGIN:VEVENT
DTSTART;TZID=America/Kentucky/Louisville:20250301T180000
DTEND;TZID=America/Kentucky/Louisville:20250301T180000
DTSTAMP:20260422T232056
CREATED:20250130T210728Z
LAST-MODIFIED:20250130T211313Z
UID:9391-1740852000-1740852000@middletownchristian.org
SUMMARY:Trivia Night
DESCRIPTION:Come flex your trivia knowledge – or lack thereof\, we don’t judge! – at a fun night to support our Youth Ministry on their Camden Mission Trip this summer. Invite your friends\, book a whole table\, or come solo and make some new friends! Bring your own snacks\, and don’t forget the cash for door prizes\, games\, and trivia perks! Reserve your spot today… registration closes on February 24. After you get signed up\, keep an eye on your email for all Trivia Night details to come your way once registration closes. \nMiddletown Christian Church (500 N Watterson Trail) in the Gym\nSaturday\, March 1 \nDoors open at 6:00\, with Trivia starting at 6:30\nCost is $15 per person or $100 for a full table of 8 \nChildcare is available for kids up to 5th grade. Childcare is $5 per child and must be booked in advance. Please bring a packed dinner/snacks in a lunchbox/bag labeled for each child. *Please note: We have paid Nursery staff for children 3 and under only. All other childcare is provided by MCC Youth under the supervision of a Missions Team parent. \nSIGN UP HERE & PAY HERE
URL:https://middletownchristian.org/event/trivia-night/
CATEGORIES:Churchwide,Students
ATTACH;FMTTYPE=image/png:https://middletownchristian.org/wp-content/uploads/2025/01/2025-Trivia-Night-web-1.png
END:VEVENT
BEGIN:VEVENT
DTSTART;VALUE=DATE:20250117
DTEND;VALUE=DATE:20250121
DTSTAMP:20260422T232056
CREATED:20241024T144417Z
LAST-MODIFIED:20241028T154447Z
UID:9145-1737072000-1737417599@middletownchristian.org
SUMMARY:High School Retreat
DESCRIPTION:The truth is\, everything changes. The truth is\, most of us don’t like it. But the truth also is\, even if everything around us changes\, God does not. Join us on High School Retreat for Even If… as we explore the ways that God is always with us\, helping us overcome our fears\, and making us stronger in the face of all that changes around us. We’re heading west this year as we spend time together getting away from it all to build community\, make memories\, and carry on traditions\, all with some fun and unique St Louis things thrown in. \nDates: January 17-20 \nCost: $195 (additional siblings $145) / $50 deposit due at registration (balance due on or before January 12) *If you would like pay via cash or check\, contact Becky*\nRegistration deadline: December 22 \n\n\nCLICK HERE TO REGISTER & PAY\n*Mark your calendar for the HS Retreat Participant/Parent Meeting on January 12 at 11:00am in the Youth Center.\n\nLocation: Camp Wartburg\, 5705 Lrc Rd\, Waterloo IL 6229
URL:https://middletownchristian.org/event/high-school-retreat/
CATEGORIES:Students
ATTACH;FMTTYPE=image/jpeg:https://middletownchristian.org/wp-content/uploads/2024/10/even-if-graphic-scaled.jpg
END:VEVENT
BEGIN:VEVENT
DTSTART;VALUE=DATE:20241109
DTEND;VALUE=DATE:20241111
DTSTAMP:20260422T232056
CREATED:20241008T212427Z
LAST-MODIFIED:20241008T212427Z
UID:9071-1731110400-1731283199@middletownchristian.org
SUMMARY:Arise Weekend
DESCRIPTION:November 9-10\nCost: $64 ($53 for additional siblings) *Price includes processing fees.*  Note: If you would like to pay via cash or check\, please contact Becky bschroeder@middletownchristian.org to assist you with registering for this event. \n\nJoin us for a unique in-town mini-retreat with an outreach focus. We’ll start at church at 8:30am on Saturday for the Morning FuelUp Session with breakfast\, games\, and prizes before heading out to serve with several of our Outreach partners\, and we’ll wrap up with our final session on Sunday morning at The Gathering. Plus: amazing worship sessions\, group time\, overnight Host Homes\, late-night church games\, and the epic Road Rally Scavenger Hunt. \nClick the link below to register and pay for this event: \nhttps://www.vancoevents.com/us/CRLX
URL:https://middletownchristian.org/event/arise-weekend/
CATEGORIES:Students
ATTACH;FMTTYPE=image/png:https://middletownchristian.org/wp-content/uploads/2024/10/Untitled-design-6.png
END:VEVENT
BEGIN:VEVENT
DTSTART;VALUE=DATE:20240920
DTEND;VALUE=DATE:20240923
DTSTAMP:20260422T232056
CREATED:20240806T130935Z
LAST-MODIFIED:20240813T213732Z
UID:8941-1726790400-1727049599@middletownchristian.org
SUMMARY:Into The Unknown: Middle School Retreat
DESCRIPTION:MIDDLE SCHOOL FALL RETREAT \nTHEME: INTO THE UNKNOWN\nMiddle school is hard. Let’s just face it. New schools. New friends. New responsibilities. So much change – and let’s be real\, who actually likes change?! Change is just so… unknown.  But what if we weren’t alone? What if we were more brave and more equipped than we thought. Together\, let’s take a journey INTO THE UNKNOWN. \nDATES: September 20-22\nLOCATION: The Cabins @ Country Lake Christian Retreat \nCOST: $125  (*Sibling discount – Pay full price for the first sibling\, and take $50 off each additional sibling’s registration*) \nYOU CAN PAY HERE!   once you’ve completed the registration below. You must complete the registration form and payment to register.
URL:https://middletownchristian.org/event/into-the-unknown-middle-school-retreat/
CATEGORIES:Students
ATTACH;FMTTYPE=image/png:https://middletownchristian.org/wp-content/uploads/2024/08/MS-Retreat-4.png
END:VEVENT
BEGIN:VEVENT
DTSTART;TZID=America/Kentucky/Louisville:20240908T180000
DTEND;TZID=America/Kentucky/Louisville:20240908T193000
DTSTAMP:20260422T232056
CREATED:20240812T183932Z
LAST-MODIFIED:20240812T184013Z
UID:8969-1725818400-1725823800@middletownchristian.org
SUMMARY:Sunday Night Youth Resumes
DESCRIPTION:Sunday Night Youth (SNY) is back for the school year starting on September 8th. SNY meets on Sunday nights during the school year from 6:00-7:30pm for all Middle & High School students. \nWe start off each week with dinner at “Gigi’s Diner” in our Youth Café (no charge for dinner\, but there is a donation jar to help cover expenses – suggested donation is $5 per student) before we break off by grade into our Student Life Groups to foster deeper community. \nWe’re kicking off this year with a “Jerseys & Jerseys” Community Night. Wear your favorite team jersey\, grab a Jersey Mike’s sandwich\, and team up with your Group for some fun and friendly competition. Bring your friends\, and we’ll see you at SNY! \nContact: Becky Schroeder\, bschroeder@middletownchristian.org
URL:https://middletownchristian.org/event/sunday-night-youth-resumes/
CATEGORIES:Students
ATTACH;FMTTYPE=image/jpeg:https://middletownchristian.org/wp-content/uploads/2024/08/Sunday-Night-Youth-Web-1.jpg
END:VEVENT
BEGIN:VEVENT
DTSTART;TZID=America/Kentucky/Louisville:20240825T170000
DTEND;TZID=America/Kentucky/Louisville:20240825T190000
DTSTAMP:20260422T232056
CREATED:20240730T185905Z
LAST-MODIFIED:20240806T170918Z
UID:8904-1724605200-1724612400@middletownchristian.org
SUMMARY:Water Mayhem
DESCRIPTION:Let’s celebrate the start of the new school year with our annual Water Mayhem! Wear a swimsuit\, bring a towel\, and prepare for an evening of fun with water games and inflatables. \nThis event will be held on the side lawn from 5-6 p.m. PreK through fifth grade and 6:30-7:30 p.m. for youth on Sunday\, August 25. \nWe hope to see you there!
URL:https://middletownchristian.org/event/water-mayhem/
CATEGORIES:Children,Students
ATTACH;FMTTYPE=image/png:https://middletownchristian.org/wp-content/uploads/2024/07/Water-Mayhem-2024-Slide-2.png
END:VEVENT
BEGIN:VEVENT
DTSTART;TZID=America/Kentucky/Louisville:20240804T170000
DTEND;TZID=America/Kentucky/Louisville:20240804T193000
DTSTAMP:20260422T232056
CREATED:20240716T154404Z
LAST-MODIFIED:20240716T154419Z
UID:8891-1722790800-1722799800@middletownchristian.org
SUMMARY:Children and Youth Volunteer Training
DESCRIPTION:If you are interested in becoming a volunteer for the children or youth ministries\, please join us for volunteer training. \nDinner is available for all volunteers (pasta with marinara & alfredo\, salad\, bread; GF available). \nChildcare is available but dinner is only available for the volunteers who are attending training. \n  \nPlease fill out the form below!
URL:https://middletownchristian.org/event/children-and-youth-volunteer-training/
CATEGORIES:Children,Churchwide,Students
ATTACH;FMTTYPE=image/png:https://middletownchristian.org/wp-content/uploads/2024/07/Volunteer-Training.png
END:VEVENT
BEGIN:VEVENT
DTSTART;VALUE=DATE:20240701
DTEND;VALUE=DATE:20240706
DTSTAMP:20260422T232056
CREATED:20230929T165523Z
LAST-MODIFIED:20231213T180344Z
UID:8153-1719792000-1720223999@middletownchristian.org
SUMMARY:Passport Youth Summer Camp
DESCRIPTION:Spend an exciting week this summer at Passport Camp! Passport Missions combines the excitement of summer camp with the heart of a mission trip. Students will grow closer to Jesus and discover new friendships all while putting their faith into action to make a difference in the world. It will be a week they will never forget! Space is very limited\, so be sure to register early. \nDate: July 1-5\nLocation: Berea College\, Berea KY\nCost: $468\nRegistration deadline: November 30 \nYou can pay HERE \n*$100 non-refundable deposit secures your spot. Remaining balance is due February 1. Limited scholarships are available\, email Becky for details. \nCheck out the Passport website to see all that your student can expect to experience in a week at Passport:  https://passportcamps.org/passport-missions/ \n  \nRegistration is full. Please email Becky to be added to our waitlist!\n 
URL:https://middletownchristian.org/event/passport-youth-summer-camp/
CATEGORIES:Students
ATTACH;FMTTYPE=image/png:https://middletownchristian.org/wp-content/uploads/2023/09/Youth-Passport-2024.png
END:VEVENT
END:VCALENDAR