BEGIN:VCALENDAR
VERSION:2.0
PRODID:-//Middletown Christian Church - ECPv6.15.18//NONSGML v1.0//EN
CALSCALE:GREGORIAN
METHOD:PUBLISH
X-ORIGINAL-URL:https://middletownchristian.org
X-WR-CALDESC:Events for Middletown Christian Church
REFRESH-INTERVAL;VALUE=DURATION:PT1H
X-Robots-Tag:noindex
X-PUBLISHED-TTL:PT1H
BEGIN:VTIMEZONE
TZID:America/Kentucky/Louisville
BEGIN:DAYLIGHT
TZOFFSETFROM:-0500
TZOFFSETTO:-0400
TZNAME:EDT
DTSTART:20230312T070000
END:DAYLIGHT
BEGIN:STANDARD
TZOFFSETFROM:-0400
TZOFFSETTO:-0500
TZNAME:EST
DTSTART:20231105T060000
END:STANDARD
BEGIN:DAYLIGHT
TZOFFSETFROM:-0500
TZOFFSETTO:-0400
TZNAME:EDT
DTSTART:20240310T070000
END:DAYLIGHT
BEGIN:STANDARD
TZOFFSETFROM:-0400
TZOFFSETTO:-0500
TZNAME:EST
DTSTART:20241103T060000
END:STANDARD
BEGIN:DAYLIGHT
TZOFFSETFROM:-0500
TZOFFSETTO:-0400
TZNAME:EDT
DTSTART:20250309T070000
END:DAYLIGHT
BEGIN:STANDARD
TZOFFSETFROM:-0400
TZOFFSETTO:-0500
TZNAME:EST
DTSTART:20251102T060000
END:STANDARD
END:VTIMEZONE
BEGIN:VEVENT
DTSTART;TZID=America/Kentucky/Louisville:20240908T180000
DTEND;TZID=America/Kentucky/Louisville:20240908T193000
DTSTAMP:20260424T021153
CREATED:20240812T183932Z
LAST-MODIFIED:20240812T184013Z
UID:8969-1725818400-1725823800@middletownchristian.org
SUMMARY:Sunday Night Youth Resumes
DESCRIPTION:Sunday Night Youth (SNY) is back for the school year starting on September 8th. SNY meets on Sunday nights during the school year from 6:00-7:30pm for all Middle & High School students. \nWe start off each week with dinner at “Gigi’s Diner” in our Youth Café (no charge for dinner\, but there is a donation jar to help cover expenses – suggested donation is $5 per student) before we break off by grade into our Student Life Groups to foster deeper community. \nWe’re kicking off this year with a “Jerseys & Jerseys” Community Night. Wear your favorite team jersey\, grab a Jersey Mike’s sandwich\, and team up with your Group for some fun and friendly competition. Bring your friends\, and we’ll see you at SNY! \nContact: Becky Schroeder\, bschroeder@middletownchristian.org
URL:https://middletownchristian.org/event/sunday-night-youth-resumes/
CATEGORIES:Students
ATTACH;FMTTYPE=image/jpeg:https://middletownchristian.org/wp-content/uploads/2024/08/Sunday-Night-Youth-Web-1.jpg
END:VEVENT
END:VCALENDAR