BEGIN:VCALENDAR
VERSION:2.0
PRODID:-//Middletown Christian Church - ECPv6.15.18//NONSGML v1.0//EN
CALSCALE:GREGORIAN
METHOD:PUBLISH
X-WR-CALNAME:Middletown Christian Church
X-ORIGINAL-URL:https://middletownchristian.org
X-WR-CALDESC:Events for Middletown Christian Church
REFRESH-INTERVAL;VALUE=DURATION:PT1H
X-Robots-Tag:noindex
X-PUBLISHED-TTL:PT1H
BEGIN:VTIMEZONE
TZID:America/Kentucky/Louisville
BEGIN:DAYLIGHT
TZOFFSETFROM:-0500
TZOFFSETTO:-0400
TZNAME:EDT
DTSTART:20240310T070000
END:DAYLIGHT
BEGIN:STANDARD
TZOFFSETFROM:-0400
TZOFFSETTO:-0500
TZNAME:EST
DTSTART:20241103T060000
END:STANDARD
BEGIN:DAYLIGHT
TZOFFSETFROM:-0500
TZOFFSETTO:-0400
TZNAME:EDT
DTSTART:20250309T070000
END:DAYLIGHT
BEGIN:STANDARD
TZOFFSETFROM:-0400
TZOFFSETTO:-0500
TZNAME:EST
DTSTART:20251102T060000
END:STANDARD
BEGIN:DAYLIGHT
TZOFFSETFROM:-0500
TZOFFSETTO:-0400
TZNAME:EDT
DTSTART:20260308T070000
END:DAYLIGHT
BEGIN:STANDARD
TZOFFSETFROM:-0400
TZOFFSETTO:-0500
TZNAME:EST
DTSTART:20261101T060000
END:STANDARD
BEGIN:DAYLIGHT
TZOFFSETFROM:-0500
TZOFFSETTO:-0400
TZNAME:EDT
DTSTART:20270314T070000
END:DAYLIGHT
BEGIN:STANDARD
TZOFFSETFROM:-0400
TZOFFSETTO:-0500
TZNAME:EST
DTSTART:20271107T060000
END:STANDARD
END:VTIMEZONE
BEGIN:VEVENT
DTSTART;TZID=America/Kentucky/Louisville:20250809T110000
DTEND;TZID=America/Kentucky/Louisville:20250809T150000
DTSTAMP:20260422T182114
CREATED:20250722T202543Z
LAST-MODIFIED:20250722T202814Z
UID:9690-1754737200-1754751600@middletownchristian.org
SUMMARY:Harvest & Hope
DESCRIPTION:Fall Outreach Kickoff: Community Gardening & Food Distribution \nJoin us Saturday\, August 9th\, as we kick off our fall outreach by teaming up with Hope Connect for a day of service\, connection\, and community impact! \nWe’ll spend the day helping in the Community Garden and supporting food distribution efforts that directly benefit local families. \nLocation: Hope Connect\, 2313 West Market Street \nTime: 11:00 AM – 3:00 PM \nCome ready to dig\, serve\, and make a difference. Whether you’ve got a green thumb or just a heart to help\, there’s a place for you! \nSign up below
URL:https://middletownchristian.org/event/hope-harvest/
CATEGORIES:Churchwide,Serve
ATTACH;FMTTYPE=image/png:https://middletownchristian.org/wp-content/uploads/2025/07/Harvest-Hope-Aug.-9-1.png
END:VEVENT
BEGIN:VEVENT
DTSTART;TZID=America/Kentucky/Louisville:20250817T180000
DTEND;TZID=America/Kentucky/Louisville:20250817T193000
DTSTAMP:20260422T182114
CREATED:20250807T151240Z
LAST-MODIFIED:20250807T151240Z
UID:9744-1755453600-1755459000@middletownchristian.org
SUMMARY:Mosaic Ministry Volunteer Training
DESCRIPTION:Mosaic Ministry Training – Volunteers Needed! \nStarting Sunday\, September 7\, we’re launching Mosaic Ministry\, a special needs ministry offered during the 11:10 AM service. This ministry is open to all abilities and ages — and we need your help to make it happen! \nWe’re  looking for adults and youth  to serve. Your presence matters more than you know\, and you can make a real difference. \nCan you give just one Sunday a month? \nTo Volunteer\, You’ll Need: \n\nAttend a 90-minute training on Sunday\, August 17 at 6pm\nComplete a background check (if you’re 18 or older)\n\nContact: Amanda O’Mahoney\, aomahoney@middletownchristian.org \n  \nRSVP for training below.
URL:https://middletownchristian.org/event/mosaic-ministry-volunteer-training/
CATEGORIES:Serve
ATTACH;FMTTYPE=image/jpeg:https://middletownchristian.org/wp-content/uploads/2025/08/Mosaic-Ministry-Slide.jpg
END:VEVENT
BEGIN:VEVENT
DTSTART;TZID=America/Kentucky/Louisville:20250824T083000
DTEND;TZID=America/Kentucky/Louisville:20250824T123000
DTSTAMP:20260422T182114
CREATED:20250805T181737Z
LAST-MODIFIED:20250805T181737Z
UID:9735-1756024200-1756038600@middletownchristian.org
SUMMARY:Donation Drive for EACM
DESCRIPTION:Help us stock the pantry for Eastern Area Community Ministries! You can drop off donations in the Outreach Closet by the church office on Sunday\, Aug. 24th from 8:30 AM-12:30 PM. \nPlease donate ONLY the following items: \n\nPasta sauce\nPotatoes (can\, box\, or pouch)\nDried beans\nMac and Cheese\nSize 5 diapers\n3-4T pullups\nLaundry detergent\n\n  \nContact: Corey Miller\, cmiller@middletownchristian.org
URL:https://middletownchristian.org/event/donation-drive-for-eacm/
CATEGORIES:Serve
ATTACH;FMTTYPE=image/jpeg:https://middletownchristian.org/wp-content/uploads/2025/08/EACM-Drive.jpg
END:VEVENT
BEGIN:VEVENT
DTSTART;VALUE=DATE:20250905
DTEND;VALUE=DATE:20250907
DTSTAMP:20260422T182114
CREATED:20250814T150119Z
LAST-MODIFIED:20250814T150119Z
UID:9756-1757030400-1757203199@middletownchristian.org
SUMMARY:Middletown Family Fun Festival
DESCRIPTION:Join Us at the Middletown Family Fun Festival – Sept. 5 & 6! \nBe part of the 53rd annual Middletown Family Fun Festival on Main Street—a weekend filled with games\, live music\, food trucks\, and local vendors. \nMiddletown Christian Church will have its own booth\, and we need friendly volunteers to help make it a success! This is a wonderful chance to connect with our neighbors\, share information about MCC\, and hand out fun giveaways. \nVolunteer Roles: \n\nAll shifts: Greet festival visitors\, share MCC info\, and distribute freebies.\nOpening shifts: Help with booth setup.\nClosing shifts: Assist with booth tear down.\n\nSet Up/Tear Down Details: Volunteers should be able to help assemble a 10×10 canopy tent and lift/move equipment. \nIf possible\, please wear a Middletown shirt to show your MCC spirit! \nSign up here to volunteer! 
URL:https://middletownchristian.org/event/middletown-family-fun-festival/
CATEGORIES:Churchwide,Serve
ATTACH;FMTTYPE=image/png:https://middletownchristian.org/wp-content/uploads/2025/08/Middletown-Festival-Slide-1.png
END:VEVENT
BEGIN:VEVENT
DTSTART;TZID=America/Kentucky/Louisville:20250906T103000
DTEND;TZID=America/Kentucky/Louisville:20250906T170000
DTSTAMP:20260422T182114
CREATED:20240812T144217Z
LAST-MODIFIED:20250724T172850Z
UID:8966-1757154600-1757178000@middletownchristian.org
SUMMARY:Louisville Pride Festival Booth
DESCRIPTION:Middletown Christian Church will have a booth at the Louisville Pride Festival on Saturday\, Sept. 6th from 11 AM-5 PM. Volunteers will staff the booth for one hour time slots. Volunteers are a friendly\, welcoming presence for festival attendees\, providing info about Middletown and giving out freebies. Festival takes place on Bardstown Rd. \nPlease wear a Middletown t-shirt if possible. If not\, wear something rainbow or with a positive message. \nContact: Rachel Freeny\, rfreeny@middletownchristian.org \nSign up here: https://www.signupgenius.com/go/805054AABA728A3FD0-louisville#/
URL:https://middletownchristian.org/event/louisville-pride-festival-booth/
CATEGORIES:Serve
ATTACH;FMTTYPE=image/jpeg:https://middletownchristian.org/wp-content/uploads/2024/08/Louisville-Pride-Web-1.jpg
END:VEVENT
BEGIN:VEVENT
DTSTART;TZID=America/Kentucky/Louisville:20250913T110000
DTEND;TZID=America/Kentucky/Louisville:20250913T140000
DTSTAMP:20260422T182114
CREATED:20250805T140324Z
LAST-MODIFIED:20250805T140324Z
UID:9717-1757761200-1757772000@middletownchristian.org
SUMMARY:Cookout at Hope Village
DESCRIPTION:Join us as we spend time with our friends at the Hope Village. We will spend time playing games with the residents and grilling out. We need someone to be in charge of the grill\, so if you are a secret grill master please let Corey Miller know. \nAddress: 212 East College Street \nContact: Corey Miller\, cmiller@middletownchristian.org
URL:https://middletownchristian.org/event/cookout-at-hope-village/
CATEGORIES:Serve
ATTACH;FMTTYPE=image/jpeg:https://middletownchristian.org/wp-content/uploads/2025/08/Cookout-at-hope-village.jpg
END:VEVENT
BEGIN:VEVENT
DTSTART;TZID=America/Kentucky/Louisville:20250927T090000
DTEND;TZID=America/Kentucky/Louisville:20250927T130000
DTSTAMP:20260422T182114
CREATED:20250421T173208Z
LAST-MODIFIED:20250805T140821Z
UID:9581-1758963600-1758978000@middletownchristian.org
SUMMARY:Hand in Hand Work Day
DESCRIPTION:Join us for a hands-on afternoon of giving back with Hand in Hand Ministries! We’ll be teaming up to help local homeowners through light construction projects—think painting\, repairs\, and more. No experience needed—just bring your energy\, a willingness to help\, and maybe a hammer or two \nContact: Corey Miller\, cmiller@middletownchristian.org
URL:https://middletownchristian.org/event/hand-in-hand-work-day/
CATEGORIES:Serve
ATTACH;FMTTYPE=image/jpeg:https://middletownchristian.org/wp-content/uploads/2025/04/Hand-in-Hand-Work-Day.jpg
END:VEVENT
BEGIN:VEVENT
DTSTART;TZID=America/Kentucky/Louisville:20251008T100000
DTEND;TZID=America/Kentucky/Louisville:20251008T130000
DTSTAMP:20260422T182114
CREATED:20250916T174340Z
LAST-MODIFIED:20250916T174340Z
UID:9822-1759917600-1759928400@middletownchristian.org
SUMMARY:Food Distribution with Hope Rescued
DESCRIPTION:Help set up and distribute food at Hope Rescued’s weekly free food market on Wednesday\, Oct. 8th at 10 AM-1 PM. \nSign up below. \nLocation: 2833 Garfield Ave \nContact: Corey Miller\, cmiller@middletownchristian.org \nHope Rescued’s mission is to eliminate homelessness\, sex trafficking\, and addiction in Louisville Kentucky and beyond through the hope and love of Jesus Christ extended through physical\, emotional\, and spiritual solutions.
URL:https://middletownchristian.org/event/food-distribution-with-hope-rescued/
CATEGORIES:Serve
ATTACH;FMTTYPE=image/jpeg:https://middletownchristian.org/wp-content/uploads/2025/09/hope-rescued-slide.jpg
END:VEVENT
BEGIN:VEVENT
DTSTART;TZID=America/Kentucky/Louisville:20251105T100000
DTEND;TZID=America/Kentucky/Louisville:20251105T130000
DTSTAMP:20260422T182114
CREATED:20250916T174559Z
LAST-MODIFIED:20250916T174559Z
UID:9826-1762336800-1762347600@middletownchristian.org
SUMMARY:Food Distribution with Hope Rescued
DESCRIPTION:Help set up and distribute food at Hope Rescued’s weekly free food market on Wednesday\, Nov. 5th at 10 AM-1 PM. \nSign up below. \nLocation: 2833 Garfield Ave \nContact: Corey Miller\, cmiller@middletownchristian.org \nHope Rescued’s mission is to eliminate homelessness\, sex trafficking\, and addiction in Louisville Kentucky and beyond through the hope and love of Jesus Christ extended through physical\, emotional\, and spiritual solutions.
URL:https://middletownchristian.org/event/food-distribution-with-hope-rescued-2/
CATEGORIES:Serve
ATTACH;FMTTYPE=image/jpeg:https://middletownchristian.org/wp-content/uploads/2025/09/hope-rescued-slide.jpg
END:VEVENT
BEGIN:VEVENT
DTSTART;TZID=America/Kentucky/Louisville:20251115T090000
DTEND;TZID=America/Kentucky/Louisville:20251115T120000
DTSTAMP:20260422T182114
CREATED:20251020T150427Z
LAST-MODIFIED:20251020T150427Z
UID:9890-1763197200-1763208000@middletownchristian.org
SUMMARY:Build A Bed: Prep Day
DESCRIPTION:Join us as we prepare for our annual build with Build a Bed. We will be cutting\, sanding\, and carrying wood. We will also be setting up the gym. \nSign up below. \nContact: Corey Miller\, cmiller@middletownchristian.org
URL:https://middletownchristian.org/event/build-a-bed-prep-day/
CATEGORIES:Serve
ATTACH;FMTTYPE=image/jpeg:https://middletownchristian.org/wp-content/uploads/2025/10/prep-day.jpg
END:VEVENT
BEGIN:VEVENT
DTSTART;VALUE=DATE:20251116
DTEND;VALUE=DATE:20251121
DTSTAMP:20260422T182114
CREATED:20251030T155614Z
LAST-MODIFIED:20251030T155614Z
UID:9912-1763251200-1763683199@middletownchristian.org
SUMMARY:Thanksgiving Bag Drive
DESCRIPTION:This year’s Thanksgiving Bag Drive with Eastern Area Community Ministries is more important than ever for families in need of food in our community. Using the list below\, fill a bag with food and then drop it off at the church on Sunday\, Nov. 16\, during services or Mon-Thurs at 10 am-2 pm. Please donate ONLY the items on the list. \n\n$25 Kroger Card for perishable food items\nInstant mashed potatoes\n4 cans of vegetables\nPackaged or canned gravy\nBoxed stuffing mix\n4 cans of fruit\nCranberry Sauce\nPie Filling/Crust or Cake Mix/Frosting\nTea/Lemonade (boxed or powder only)\n\nContact: Corey Miller\, cmiller@middletownchristian.org
URL:https://middletownchristian.org/event/thanksgiving-bag-drive-2/
CATEGORIES:Serve
ATTACH;FMTTYPE=image/jpeg:https://middletownchristian.org/wp-content/uploads/2025/10/Tgiving-Bag-Drive-2025-Slide.jpg
END:VEVENT
BEGIN:VEVENT
DTSTART;TZID=America/Kentucky/Louisville:20251116T121500
DTEND;TZID=America/Kentucky/Louisville:20251116T160000
DTSTAMP:20260422T182114
CREATED:20241015T201132Z
LAST-MODIFIED:20251021T135836Z
UID:9097-1763295300-1763308800@middletownchristian.org
SUMMARY:Build A Bed: Build Day
DESCRIPTION:We’re excited to once again partner with Build A Bed to build 30 beds for JCPS students in need. We’ll kick off in the MCC gym on Sunday\, Nov. 16th\, at 12:15 p.m. with lunch and the build directly afterward. This is an all ages event: kids are invited to sign up for the bed slat writing team! \nPlease use the sign up form below to participate in this year’s build.
URL:https://middletownchristian.org/event/build-a-bed-build-day/
CATEGORIES:Serve
ATTACH;FMTTYPE=image/jpeg:https://middletownchristian.org/wp-content/uploads/2024/10/build-day.jpg
END:VEVENT
BEGIN:VEVENT
DTSTART;TZID=America/Kentucky/Louisville:20251122T090000
DTEND;TZID=America/Kentucky/Louisville:20251122T113000
DTSTAMP:20260422T182114
CREATED:20251030T160038Z
LAST-MODIFIED:20251030T160038Z
UID:9917-1763802000-1763811000@middletownchristian.org
SUMMARY:Thanksgiving Bag Distribution
DESCRIPTION:Help distribute Thanksgiving Bags on Saturday\, Nov. 22nd from 9 AM-11:30 AM in the MCC parking lot. Volunteers will give bags to cars and help with traffic control. Sign up using the form below. \nContact: Corey Miller\, cmiller@middletownchristian.org \n 
URL:https://middletownchristian.org/event/thanksgiving-bag-distribution/
CATEGORIES:Serve
ATTACH;FMTTYPE=image/jpeg:https://middletownchristian.org/wp-content/uploads/2025/10/Tgiving-Bag-Drive-2025-Slide-1.jpg
END:VEVENT
BEGIN:VEVENT
DTSTART;TZID=America/Kentucky/Louisville:20251210T100000
DTEND;TZID=America/Kentucky/Louisville:20251210T130000
DTSTAMP:20260422T182114
CREATED:20250916T174747Z
LAST-MODIFIED:20250916T174747Z
UID:9828-1765360800-1765371600@middletownchristian.org
SUMMARY:Food Distribution with Hope Rescued
DESCRIPTION:Help set up and distribute food at Hope Rescued’s weekly free food market on Wednesday\, Dec. 10th at 10 AM-1 PM. \nSign up below. \nLocation: 2833 Garfield Ave \nContact: Corey Miller\, cmiller@middletownchristian.org \nHope Rescued’s mission is to eliminate homelessness\, sex trafficking\, and addiction in Louisville Kentucky and beyond through the hope and love of Jesus Christ extended through physical\, emotional\, and spiritual solutions.
URL:https://middletownchristian.org/event/food-distribution-with-hope-rescued-3/
CATEGORIES:Serve
ATTACH;FMTTYPE=image/jpeg:https://middletownchristian.org/wp-content/uploads/2025/09/hope-rescued-slide.jpg
END:VEVENT
BEGIN:VEVENT
DTSTART;VALUE=DATE:20260111
DTEND;VALUE=DATE:20260122
DTSTAMP:20260422T182114
CREATED:20251222T153950Z
LAST-MODIFIED:20260106T150714Z
UID:9986-1768089600-1769039999@middletownchristian.org
SUMMARY:Warm Winter Donation Drive
DESCRIPTION:As temperatures drop we’re collecting vital supplies for our local houseless community. From January 11th – January 21st\, donate throw blankets\, gloves\, and socks of all genders and sizes for our friends at Hope Rescued. Please bring all donations to the outreach closet. \n  \nContact: Corey Miller\, cmiller@middletownchristian.org
URL:https://middletownchristian.org/event/warm-winter-donation-drive/
CATEGORIES:Serve
ATTACH;FMTTYPE=image/jpeg:https://middletownchristian.org/wp-content/uploads/2025/12/Warm-winter-Drive.jpg
END:VEVENT
BEGIN:VEVENT
DTSTART;TZID=America/Kentucky/Louisville:20260124T100000
DTEND;TZID=America/Kentucky/Louisville:20260124T120000
DTSTAMP:20260422T182114
CREATED:20250916T173959Z
LAST-MODIFIED:20260107T150605Z
UID:9819-1769248800-1769256000@middletownchristian.org
SUMMARY:Houseless Outreach with Hope Rescued
DESCRIPTION:On Saturday\, January 24th\, we’re partnering with Hope Rescued for a morning of houseless outreach in Louisville from 10 AM-12 PM. We will distribute the donations from our warm winter drive. \nThis is not a good event for kid volunteers. \nSign up below and contact Corey Miller\, cmiller@middletownchristian.org\, with any questions. \nHope Rescued’s mission is to eliminate homelessness\, sex trafficking\, and addiction in Louisville Kentucky and beyond through the hope and love of Jesus Christ extended through physical\, emotional\, and spiritual solutions.
URL:https://middletownchristian.org/event/homeless-outreach-with-hope-rescued/
CATEGORIES:Serve
ATTACH;FMTTYPE=image/jpeg:https://middletownchristian.org/wp-content/uploads/2025/09/homeless-outreach-slide-1.jpg
END:VEVENT
BEGIN:VEVENT
DTSTART;TZID=America/Kentucky/Louisville:20260214T100000
DTEND;TZID=America/Kentucky/Louisville:20260214T120000
DTSTAMP:20260422T182114
CREATED:20250805T140050Z
LAST-MODIFIED:20260205T155243Z
UID:9714-1771063200-1771070400@middletownchristian.org
SUMMARY:Pack Meals with Love the Hungry
DESCRIPTION:Join us as we pack over 20\,000 meals for our partners with Love the Hungry. This is a great event for all ages\, so bring the whole family for a morning of service. \nAddress: 3103 Fern Valley Rd #107 \nContact: Corey Miller\, cmiller@middletownchristian.org \nRSVP below.
URL:https://middletownchristian.org/event/pack-meals-with-love-the-hungry-2/
CATEGORIES:Serve
ATTACH;FMTTYPE=image/jpeg:https://middletownchristian.org/wp-content/uploads/2026/02/Love-the-Hungry-Web.jpg
END:VEVENT
BEGIN:VEVENT
DTSTART;TZID=America/Kentucky/Louisville:20260221T100000
DTEND;TZID=America/Kentucky/Louisville:20260221T120000
DTSTAMP:20260422T182114
CREATED:20251222T162559Z
LAST-MODIFIED:20260107T150713Z
UID:9996-1771668000-1771675200@middletownchristian.org
SUMMARY:Houseless Outreach with Hope Rescued
DESCRIPTION:On Saturday\, February 21st\, we’re partnering with Hope Rescued for a morning of houseless outreach in Louisville from 10 AM-12 PM. \nThis is not a good event for kid volunteers. \nSign up below and contact Corey Miller\, cmiller@middletownchristian.org\, with any questions. \nHope Rescued’s mission is to eliminate homelessness\, sex trafficking\, and addiction in Louisville Kentucky and beyond through the hope and love of Jesus Christ extended through physical\, emotional\, and spiritual solutions.
URL:https://middletownchristian.org/event/houseless-outreach-with-hope-rescued/
CATEGORIES:Serve
ATTACH;FMTTYPE=image/jpeg:https://middletownchristian.org/wp-content/uploads/2025/09/homeless-outreach-slide-1.jpg
END:VEVENT
BEGIN:VEVENT
DTSTART;TZID=America/Kentucky/Louisville:20260321T100000
DTEND;TZID=America/Kentucky/Louisville:20260321T120000
DTSTAMP:20260422T182114
CREATED:20251222T163609Z
LAST-MODIFIED:20260311T135454Z
UID:9998-1774087200-1774094400@middletownchristian.org
SUMMARY:Houseless Outreach with Hope Rescued
DESCRIPTION:On Saturday\, March 21st\, we’re partnering with Hope Rescued for a morning of houseless outreach in Louisville from 10 AM-12 PM. \nThis is not a good event for kid volunteers. \nSign up below and contact Corey Miller\, cmiller@middletownchristian.org\, with any questions. \nHope Rescued’s mission is to eliminate homelessness\, sex trafficking\, and addiction in Louisville Kentucky and beyond through the hope and love of Jesus Christ extended through physical\, emotional\, and spiritual solutions.
URL:https://middletownchristian.org/event/houseless-outreach-with-hope-rescued-2/
CATEGORIES:Serve
ATTACH;FMTTYPE=image/jpeg:https://middletownchristian.org/wp-content/uploads/2025/12/homeless-outreach-slide.jpg
END:VEVENT
BEGIN:VEVENT
DTSTART;TZID=America/Kentucky/Louisville:20260411T100000
DTEND;TZID=America/Kentucky/Louisville:20260411T120000
DTSTAMP:20260422T182114
CREATED:20251222T165722Z
LAST-MODIFIED:20260311T135538Z
UID:10005-1775901600-1775908800@middletownchristian.org
SUMMARY:Houseless Outreach with Hope Rescued
DESCRIPTION:On Saturday\, April 11th\, we’re partnering with Hope Rescued for a morning of houseless outreach in Louisville from 10 AM-12 PM. \nThis is not a good event for kid volunteers. \nSign up below and contact Corey Miller\, cmiller@middletownchristian.org\, with any questions. \nHope Rescued’s mission is to eliminate homelessness\, sex trafficking\, and addiction in Louisville Kentucky and beyond through the hope and love of Jesus Christ extended through physical\, emotional\, and spiritual solutions.
URL:https://middletownchristian.org/event/houseless-outreach-with-hope-rescued-3/
CATEGORIES:Serve
ATTACH;FMTTYPE=image/jpeg:https://middletownchristian.org/wp-content/uploads/2025/12/homeless-outreach-slide.jpg
END:VEVENT
BEGIN:VEVENT
DTSTART;TZID=America/Kentucky/Louisville:20260418T080000
DTEND;TZID=America/Kentucky/Louisville:20260418T120000
DTSTAMP:20260422T182114
CREATED:20260319T182245Z
LAST-MODIFIED:20260319T182245Z
UID:10130-1776499200-1776513600@middletownchristian.org
SUMMARY:Build a Bed Build Day
DESCRIPTION:Hundreds of Louisville community members will come together for the annual AmeriCorps Build-A-Bed event on April 18th to build beds for JCPS students at Broadbent Arena. This year\, the goal is to build 150 beds. \nThis volunteer opportunity has three different volunteer positions the build team (7 volunteers) for individuals assembling the beds\, wrap station (8 volunteers) to wrap the completed beds\, and truck loaders (2 volunteers) to assist with loading beds on the truck for delivery. \nContact: Corey Miller\, cmiller@middletownchristian.org \n 
URL:https://middletownchristian.org/event/build-a-bed-build-day-2/
CATEGORIES:Serve
ATTACH;FMTTYPE=image/jpeg:https://middletownchristian.org/wp-content/uploads/2026/03/build-a-bed-april-18.jpg
END:VEVENT
END:VCALENDAR