BEGIN:VCALENDAR
VERSION:2.0
PRODID:-//Middletown Christian Church - ECPv6.15.18//NONSGML v1.0//EN
CALSCALE:GREGORIAN
METHOD:PUBLISH
X-ORIGINAL-URL:https://middletownchristian.org
X-WR-CALDESC:Events for Middletown Christian Church
REFRESH-INTERVAL;VALUE=DURATION:PT1H
X-Robots-Tag:noindex
X-PUBLISHED-TTL:PT1H
BEGIN:VTIMEZONE
TZID:America/Kentucky/Louisville
BEGIN:DAYLIGHT
TZOFFSETFROM:-0500
TZOFFSETTO:-0400
TZNAME:EDT
DTSTART:20230312T070000
END:DAYLIGHT
BEGIN:STANDARD
TZOFFSETFROM:-0400
TZOFFSETTO:-0500
TZNAME:EST
DTSTART:20231105T060000
END:STANDARD
BEGIN:DAYLIGHT
TZOFFSETFROM:-0500
TZOFFSETTO:-0400
TZNAME:EDT
DTSTART:20240310T070000
END:DAYLIGHT
BEGIN:STANDARD
TZOFFSETFROM:-0400
TZOFFSETTO:-0500
TZNAME:EST
DTSTART:20241103T060000
END:STANDARD
BEGIN:DAYLIGHT
TZOFFSETFROM:-0500
TZOFFSETTO:-0400
TZNAME:EDT
DTSTART:20250309T070000
END:DAYLIGHT
BEGIN:STANDARD
TZOFFSETFROM:-0400
TZOFFSETTO:-0500
TZNAME:EST
DTSTART:20251102T060000
END:STANDARD
END:VTIMEZONE
BEGIN:VEVENT
DTSTART;TZID=America/Kentucky/Louisville:20241208T083000
DTEND;TZID=America/Kentucky/Louisville:20241208T120000
DTSTAMP:20260422T122022
CREATED:20241202T182230Z
LAST-MODIFIED:20241202T182600Z
UID:9284-1733646600-1733659200@middletownchristian.org
SUMMARY:Ability! Holiday Drive
DESCRIPTION:Help support children and adults with disabilities by donating a cleaning supply box or food box to our Ability! Holiday Drive. Drop off filled boxes this Sunday\, 12/8 from 8:30 AM-12 PM in the Outreach closet. Each box will go to a family who has requested assistance. \n  \nCleaning Supply Box:\nClorox wipes\, multipurpose cleaner\, laundry detergent\, a roll of paper towels \n  \nFood Box:\nnonperishable food items such as Ramen Noodles\, peanut butter\, mac and cheese\, granola bars\, canned vegetables\, spaghetti noodles\, etc. \n  \nAbility! provides case management services to children and adults with developmental and intellectual disabilities. Case managers take time to listen to the vision that each person has for their life\, and then help them find resources and support to pursue that vision. \n  \nIf you are in a small group that decides to assemble a box together\, please let Corey Miller know at cmiller@middletownchristian.org
URL:https://middletownchristian.org/event/ability-holiday-drive/
CATEGORIES:Serve
ATTACH;FMTTYPE=image/png:https://middletownchristian.org/wp-content/uploads/2024/12/Ability-Holiday-Drive-WEB.png
END:VEVENT
END:VCALENDAR