BEGIN:VCALENDAR
VERSION:2.0
PRODID:-//Middletown Christian Church - ECPv6.15.18//NONSGML v1.0//EN
CALSCALE:GREGORIAN
METHOD:PUBLISH
X-ORIGINAL-URL:https://middletownchristian.org
X-WR-CALDESC:Events for Middletown Christian Church
REFRESH-INTERVAL;VALUE=DURATION:PT1H
X-Robots-Tag:noindex
X-PUBLISHED-TTL:PT1H
BEGIN:VTIMEZONE
TZID:America/Kentucky/Louisville
BEGIN:DAYLIGHT
TZOFFSETFROM:-0500
TZOFFSETTO:-0400
TZNAME:EDT
DTSTART:20240310T070000
END:DAYLIGHT
BEGIN:STANDARD
TZOFFSETFROM:-0400
TZOFFSETTO:-0500
TZNAME:EST
DTSTART:20241103T060000
END:STANDARD
BEGIN:DAYLIGHT
TZOFFSETFROM:-0500
TZOFFSETTO:-0400
TZNAME:EDT
DTSTART:20250309T070000
END:DAYLIGHT
BEGIN:STANDARD
TZOFFSETFROM:-0400
TZOFFSETTO:-0500
TZNAME:EST
DTSTART:20251102T060000
END:STANDARD
BEGIN:DAYLIGHT
TZOFFSETFROM:-0500
TZOFFSETTO:-0400
TZNAME:EDT
DTSTART:20260308T070000
END:DAYLIGHT
BEGIN:STANDARD
TZOFFSETFROM:-0400
TZOFFSETTO:-0500
TZNAME:EST
DTSTART:20261101T060000
END:STANDARD
END:VTIMEZONE
BEGIN:VEVENT
DTSTART;VALUE=DATE:20250905
DTEND;VALUE=DATE:20250907
DTSTAMP:20260421T205406
CREATED:20250814T150119Z
LAST-MODIFIED:20250814T150119Z
UID:9756-1757030400-1757203199@middletownchristian.org
SUMMARY:Middletown Family Fun Festival
DESCRIPTION:Join Us at the Middletown Family Fun Festival – Sept. 5 & 6! \nBe part of the 53rd annual Middletown Family Fun Festival on Main Street—a weekend filled with games\, live music\, food trucks\, and local vendors. \nMiddletown Christian Church will have its own booth\, and we need friendly volunteers to help make it a success! This is a wonderful chance to connect with our neighbors\, share information about MCC\, and hand out fun giveaways. \nVolunteer Roles: \n\nAll shifts: Greet festival visitors\, share MCC info\, and distribute freebies.\nOpening shifts: Help with booth setup.\nClosing shifts: Assist with booth tear down.\n\nSet Up/Tear Down Details: Volunteers should be able to help assemble a 10×10 canopy tent and lift/move equipment. \nIf possible\, please wear a Middletown shirt to show your MCC spirit! \nSign up here to volunteer! 
URL:https://middletownchristian.org/event/middletown-family-fun-festival/
CATEGORIES:Churchwide,Serve
ATTACH;FMTTYPE=image/png:https://middletownchristian.org/wp-content/uploads/2025/08/Middletown-Festival-Slide-1.png
END:VEVENT
BEGIN:VEVENT
DTSTART;TZID=America/Kentucky/Louisville:20250906T103000
DTEND;TZID=America/Kentucky/Louisville:20250906T170000
DTSTAMP:20260421T205406
CREATED:20240812T144217Z
LAST-MODIFIED:20250724T172850Z
UID:8966-1757154600-1757178000@middletownchristian.org
SUMMARY:Louisville Pride Festival Booth
DESCRIPTION:Middletown Christian Church will have a booth at the Louisville Pride Festival on Saturday\, Sept. 6th from 11 AM-5 PM. Volunteers will staff the booth for one hour time slots. Volunteers are a friendly\, welcoming presence for festival attendees\, providing info about Middletown and giving out freebies. Festival takes place on Bardstown Rd. \nPlease wear a Middletown t-shirt if possible. If not\, wear something rainbow or with a positive message. \nContact: Rachel Freeny\, rfreeny@middletownchristian.org \nSign up here: https://www.signupgenius.com/go/805054AABA728A3FD0-louisville#/
URL:https://middletownchristian.org/event/louisville-pride-festival-booth/
CATEGORIES:Serve
ATTACH;FMTTYPE=image/jpeg:https://middletownchristian.org/wp-content/uploads/2024/08/Louisville-Pride-Web-1.jpg
END:VEVENT
BEGIN:VEVENT
DTSTART;TZID=America/Kentucky/Louisville:20250913T110000
DTEND;TZID=America/Kentucky/Louisville:20250913T140000
DTSTAMP:20260421T205406
CREATED:20250805T140324Z
LAST-MODIFIED:20250805T140324Z
UID:9717-1757761200-1757772000@middletownchristian.org
SUMMARY:Cookout at Hope Village
DESCRIPTION:Join us as we spend time with our friends at the Hope Village. We will spend time playing games with the residents and grilling out. We need someone to be in charge of the grill\, so if you are a secret grill master please let Corey Miller know. \nAddress: 212 East College Street \nContact: Corey Miller\, cmiller@middletownchristian.org
URL:https://middletownchristian.org/event/cookout-at-hope-village/
CATEGORIES:Serve
ATTACH;FMTTYPE=image/jpeg:https://middletownchristian.org/wp-content/uploads/2025/08/Cookout-at-hope-village.jpg
END:VEVENT
BEGIN:VEVENT
DTSTART;TZID=America/Kentucky/Louisville:20250927T090000
DTEND;TZID=America/Kentucky/Louisville:20250927T130000
DTSTAMP:20260421T205406
CREATED:20250421T173208Z
LAST-MODIFIED:20250805T140821Z
UID:9581-1758963600-1758978000@middletownchristian.org
SUMMARY:Hand in Hand Work Day
DESCRIPTION:Join us for a hands-on afternoon of giving back with Hand in Hand Ministries! We’ll be teaming up to help local homeowners through light construction projects—think painting\, repairs\, and more. No experience needed—just bring your energy\, a willingness to help\, and maybe a hammer or two \nContact: Corey Miller\, cmiller@middletownchristian.org
URL:https://middletownchristian.org/event/hand-in-hand-work-day/
CATEGORIES:Serve
ATTACH;FMTTYPE=image/jpeg:https://middletownchristian.org/wp-content/uploads/2025/04/Hand-in-Hand-Work-Day.jpg
END:VEVENT
END:VCALENDAR