BEGIN:VCALENDAR
VERSION:2.0
PRODID:-//Middletown Christian Church - ECPv6.15.18//NONSGML v1.0//EN
CALSCALE:GREGORIAN
METHOD:PUBLISH
X-WR-CALNAME:Middletown Christian Church
X-ORIGINAL-URL:https://middletownchristian.org
X-WR-CALDESC:Events for Middletown Christian Church
REFRESH-INTERVAL;VALUE=DURATION:PT1H
X-Robots-Tag:noindex
X-PUBLISHED-TTL:PT1H
BEGIN:VTIMEZONE
TZID:America/Kentucky/Louisville
BEGIN:DAYLIGHT
TZOFFSETFROM:-0500
TZOFFSETTO:-0400
TZNAME:EDT
DTSTART:20240310T070000
END:DAYLIGHT
BEGIN:STANDARD
TZOFFSETFROM:-0400
TZOFFSETTO:-0500
TZNAME:EST
DTSTART:20241103T060000
END:STANDARD
BEGIN:DAYLIGHT
TZOFFSETFROM:-0500
TZOFFSETTO:-0400
TZNAME:EDT
DTSTART:20250309T070000
END:DAYLIGHT
BEGIN:STANDARD
TZOFFSETFROM:-0400
TZOFFSETTO:-0500
TZNAME:EST
DTSTART:20251102T060000
END:STANDARD
BEGIN:DAYLIGHT
TZOFFSETFROM:-0500
TZOFFSETTO:-0400
TZNAME:EDT
DTSTART:20260308T070000
END:DAYLIGHT
BEGIN:STANDARD
TZOFFSETFROM:-0400
TZOFFSETTO:-0500
TZNAME:EST
DTSTART:20261101T060000
END:STANDARD
END:VTIMEZONE
BEGIN:VEVENT
DTSTART;TZID=America/Kentucky/Louisville:20250120T100000
DTEND;TZID=America/Kentucky/Louisville:20250120T130000
DTSTAMP:20260422T092806
CREATED:20250114T163318Z
LAST-MODIFIED:20250114T163547Z
UID:9348-1737367200-1737378000@middletownchristian.org
SUMMARY:MLK Day with The Ace Project
DESCRIPTION:Join our partners at The Ace Project for a day of service on MLK Day. Volunteers will clean\, declutter\, and organize the center at 2508 Portland Ave from 10 AM-1 PM. Sign up using the form below as well as this google form. \nThe Ace Project exists to transform the lives of underserved children and families impacted by gun violence and trauma through compassion\, resources\, and unique opportunities. \nDonations are also welcome: cleaning supplies\, mops\, brooms\, paint rollers and brushes\, painters tape\, etc. \nContact: Corey Miller\, cmiller@middletownchristian.org \n  \n  \n  \n 
URL:https://middletownchristian.org/event/mlk-day-with-the-ace-project/
CATEGORIES:Serve
ATTACH;FMTTYPE=image/png:https://middletownchristian.org/wp-content/uploads/2025/01/ace-project-mlk-day.png
END:VEVENT
BEGIN:VEVENT
DTSTART;TZID=America/Kentucky/Louisville:20250129T183000
DTEND;TZID=America/Kentucky/Louisville:20250129T193000
DTSTAMP:20260422T092806
CREATED:20250108T151033Z
LAST-MODIFIED:20250113T150223Z
UID:9321-1738175400-1738179000@middletownchristian.org
SUMMARY:LGBTQ+ Rights Panel Conversation
DESCRIPTION:A new year has many LGBTQ+ people and allies wondering about the future of LGBTQ+ rights in our state and country. Join us for “Where Do We Go From Here?: A Conversation About the Future of LGBTQ+ Rights & How to Prepare” on Wednesday\, January 29th at 6:30 PM in the Arise Youth Center. \nPanelists will discuss the current state of queer and trans rights in Kentucky and the US\, talk a little about what might be coming over the next few years\, and give some practical ways queer individuals and families can prepare from a legal standpoint. They’ll also talk about the work their organizations are doing in Kentucky and how you can get involved. \nPanelists include Elizabeth M. Howell (Attorney at Lynch\, Cox\, Gilman & Goodman)\, Oliver Hall (Trans Health Director at Kentucky Health Justice Network\, they/them)\, Chris Hartman (Executive Director of the Fairness Campaign\, he/him)\, and Nathan Hardymon (Attorney at Lynch\, Cox\, Gilman & Goodman\, he/him). \nChildcare available upon request. Light refreshments provided. This is a free event open to all LGBTQ+ individuals\, families\, and anyone interested in learning how to support the LGBTQ+ community. \nHosted by the Rainbow Christians small group. Please RSVP below. \n 
URL:https://middletownchristian.org/event/lgbtq-rights-panel-conversation/
CATEGORIES:Serve
ATTACH;FMTTYPE=image/jpeg:https://middletownchristian.org/wp-content/uploads/2025/01/Where-Do-We-Go-From-Here.jpg
END:VEVENT
END:VCALENDAR