BEGIN:VCALENDAR
VERSION:2.0
PRODID:-//Middletown Christian Church - ECPv6.15.18//NONSGML v1.0//EN
CALSCALE:GREGORIAN
METHOD:PUBLISH
X-WR-CALNAME:Middletown Christian Church
X-ORIGINAL-URL:https://middletownchristian.org
X-WR-CALDESC:Events for Middletown Christian Church
REFRESH-INTERVAL;VALUE=DURATION:PT1H
X-Robots-Tag:noindex
X-PUBLISHED-TTL:PT1H
BEGIN:VTIMEZONE
TZID:America/Kentucky/Louisville
BEGIN:DAYLIGHT
TZOFFSETFROM:-0500
TZOFFSETTO:-0400
TZNAME:EDT
DTSTART:20240310T070000
END:DAYLIGHT
BEGIN:STANDARD
TZOFFSETFROM:-0400
TZOFFSETTO:-0500
TZNAME:EST
DTSTART:20241103T060000
END:STANDARD
BEGIN:DAYLIGHT
TZOFFSETFROM:-0500
TZOFFSETTO:-0400
TZNAME:EDT
DTSTART:20250309T070000
END:DAYLIGHT
BEGIN:STANDARD
TZOFFSETFROM:-0400
TZOFFSETTO:-0500
TZNAME:EST
DTSTART:20251102T060000
END:STANDARD
BEGIN:DAYLIGHT
TZOFFSETFROM:-0500
TZOFFSETTO:-0400
TZNAME:EDT
DTSTART:20260308T070000
END:DAYLIGHT
BEGIN:STANDARD
TZOFFSETFROM:-0400
TZOFFSETTO:-0500
TZNAME:EST
DTSTART:20261101T060000
END:STANDARD
BEGIN:DAYLIGHT
TZOFFSETFROM:-0500
TZOFFSETTO:-0400
TZNAME:EDT
DTSTART:20270314T070000
END:DAYLIGHT
BEGIN:STANDARD
TZOFFSETFROM:-0400
TZOFFSETTO:-0500
TZNAME:EST
DTSTART:20271107T060000
END:STANDARD
END:VTIMEZONE
BEGIN:VEVENT
DTSTART;TZID=America/Kentucky/Louisville:20251019T170000
DTEND;TZID=America/Kentucky/Louisville:20251019T190000
DTSTAMP:20260424T002903
CREATED:20250917T192638Z
LAST-MODIFIED:20251014T145439Z
UID:9831-1760893200-1760900400@middletownchristian.org
SUMMARY:Tailgate Treats
DESCRIPTION:Grab your best costume and join us for Tailgate Treats\, our family-friendly trick-or-treating event on Sunday\, October 19 from 5-7 PM in the church parking lot. There will be food trucks\, candy\, inflatables and more! Invite your friends\, and we’ll see you there. \nYou can donate candy by bringing it to Amanda O’Mahoney’s office or the church office. \nIf you’re interested in hosting a tailgate\, please contact Amanda O’Mahoney aomahoney@middletownchristian.org
URL:https://middletownchristian.org/event/tailgate-treats-2/
CATEGORIES:Children,Churchwide
ATTACH;FMTTYPE=image/jpeg:https://middletownchristian.org/wp-content/uploads/2025/09/Tailgate-Treats-Slide.jpg
END:VEVENT
BEGIN:VEVENT
DTSTART;VALUE=DATE:20260622
DTEND;VALUE=DATE:20260626
DTSTAMP:20260424T002903
CREATED:20250922T193531Z
LAST-MODIFIED:20251119T164552Z
UID:9839-1782086400-1782431999@middletownchristian.org
SUMMARY:Kids Passport Camp
DESCRIPTION:**Update:  Girls spots are all full\, still room for boys** \nCost: $375 total\, $100 due upon registration \nLocation: Berea College \nWe’re making the annual trip to Berea\, Kentucky for Kids Passport Camp. \nPASSPORTkids is a 4-day\, 3-night children’s camp filled with fun faith-building programming and hands-on missions education. It is for students who have completed 3rd – 6th grade. \nAt camp\, your students will discover God’s love and practice being followers of Jesus through an active schedule of Bible studies\, missions education\, recreation\, and worship. \nSign Up & Pay Here 
URL:https://middletownchristian.org/event/kids-passport-camp-2/
CATEGORIES:Children
ATTACH;FMTTYPE=image/png:https://middletownchristian.org/wp-content/uploads/2025/09/Kids-Passport-Camp-1.png
END:VEVENT
END:VCALENDAR