BEGIN:VCALENDAR
VERSION:2.0
PRODID:-//Middletown Christian Church - ECPv6.15.18//NONSGML v1.0//EN
CALSCALE:GREGORIAN
METHOD:PUBLISH
X-ORIGINAL-URL:https://middletownchristian.org
X-WR-CALDESC:Events for Middletown Christian Church
REFRESH-INTERVAL;VALUE=DURATION:PT1H
X-Robots-Tag:noindex
X-PUBLISHED-TTL:PT1H
BEGIN:VTIMEZONE
TZID:America/Kentucky/Louisville
BEGIN:DAYLIGHT
TZOFFSETFROM:-0500
TZOFFSETTO:-0400
TZNAME:EDT
DTSTART:20230312T070000
END:DAYLIGHT
BEGIN:STANDARD
TZOFFSETFROM:-0400
TZOFFSETTO:-0500
TZNAME:EST
DTSTART:20231105T060000
END:STANDARD
BEGIN:DAYLIGHT
TZOFFSETFROM:-0500
TZOFFSETTO:-0400
TZNAME:EDT
DTSTART:20240310T070000
END:DAYLIGHT
BEGIN:STANDARD
TZOFFSETFROM:-0400
TZOFFSETTO:-0500
TZNAME:EST
DTSTART:20241103T060000
END:STANDARD
BEGIN:DAYLIGHT
TZOFFSETFROM:-0500
TZOFFSETTO:-0400
TZNAME:EDT
DTSTART:20250309T070000
END:DAYLIGHT
BEGIN:STANDARD
TZOFFSETFROM:-0400
TZOFFSETTO:-0500
TZNAME:EST
DTSTART:20251102T060000
END:STANDARD
BEGIN:DAYLIGHT
TZOFFSETFROM:-0500
TZOFFSETTO:-0400
TZNAME:EDT
DTSTART:20260308T070000
END:DAYLIGHT
BEGIN:STANDARD
TZOFFSETFROM:-0400
TZOFFSETTO:-0500
TZNAME:EST
DTSTART:20261101T060000
END:STANDARD
END:VTIMEZONE
BEGIN:VEVENT
DTSTART;TZID=America/Kentucky/Louisville:20251019T170000
DTEND;TZID=America/Kentucky/Louisville:20251019T190000
DTSTAMP:20260420T153022
CREATED:20250917T192638Z
LAST-MODIFIED:20251014T145439Z
UID:9831-1760893200-1760900400@middletownchristian.org
SUMMARY:Tailgate Treats
DESCRIPTION:Grab your best costume and join us for Tailgate Treats\, our family-friendly trick-or-treating event on Sunday\, October 19 from 5-7 PM in the church parking lot. There will be food trucks\, candy\, inflatables and more! Invite your friends\, and we’ll see you there. \nYou can donate candy by bringing it to Amanda O’Mahoney’s office or the church office. \nIf you’re interested in hosting a tailgate\, please contact Amanda O’Mahoney aomahoney@middletownchristian.org
URL:https://middletownchristian.org/event/tailgate-treats-2/
CATEGORIES:Children,Churchwide
ATTACH;FMTTYPE=image/jpeg:https://middletownchristian.org/wp-content/uploads/2025/09/Tailgate-Treats-Slide.jpg
END:VEVENT
BEGIN:VEVENT
DTSTART;TZID=America/Kentucky/Louisville:20250823T193000
DTEND;TZID=America/Kentucky/Louisville:20250823T213000
DTSTAMP:20260420T153022
CREATED:20250603T153508Z
LAST-MODIFIED:20250603T153508Z
UID:9639-1755977400-1755984600@middletownchristian.org
SUMMARY:End of Summer Splash Bash
DESCRIPTION:MCC Youth & MCC Kids are partnering for a fun end-of-summer SPLASH BASH! Join us for a private pool party (yep\, it’s just us!) at the Oldham County Aquatic Center on Saturday\, August 23\, from 7:30-9:30 pm. Just bring yourself\, your fam\, and your favorite towel and pool floaties. No outside food or drinks are allowed\, but the concession stand will be open so that you may bring money for treats. \nWe have a limited number of spots\, so be sure to sign up in advance and let us know how many are coming with you! \nSign Up Below:
URL:https://middletownchristian.org/event/end-of-summer-splash-bash/
LOCATION:Oldham County Acquatic Center\, 1551 KY-393\, La Grange\, KY\, 40031\, United States
CATEGORIES:Children,Churchwide,Students
ATTACH;FMTTYPE=image/png:https://middletownchristian.org/wp-content/uploads/2025/06/End-of-Summer-Splash-Bash-2.png
END:VEVENT
BEGIN:VEVENT
DTSTART;TZID=America/Kentucky/Louisville:20250810T095000
DTEND;TZID=America/Kentucky/Louisville:20250810T111000
DTSTAMP:20260420T153022
CREATED:20250724T171653Z
LAST-MODIFIED:20250724T171653Z
UID:9699-1754819400-1754824200@middletownchristian.org
SUMMARY:MCC Kids: Pop Up Sunday
DESCRIPTION:Our kids will Pop Up to their next grade/small group on Sunday\, August 10th at all services. We will celebrate with donuts and treats\, and the kids to get to meet their new small group leaders! \nContact: Amanda O’Mahoney\, aomahoney@middletownchristian.org
URL:https://middletownchristian.org/event/mcc-kids-pop-up-sunday/
CATEGORIES:Children
ATTACH;FMTTYPE=image/png:https://middletownchristian.org/wp-content/uploads/2025/07/Pop-Up-Sunday-Web-Event.png
END:VEVENT
BEGIN:VEVENT
DTSTART;TZID=America/Kentucky/Louisville:20250803T180000
DTEND;TZID=America/Kentucky/Louisville:20250803T200000
DTSTAMP:20260420T153022
CREATED:20250714T174058Z
LAST-MODIFIED:20250714T174058Z
UID:9670-1754244000-1754251200@middletownchristian.org
SUMMARY:Children and Youth Volunteer Training
DESCRIPTION:Want to make a difference in Kids’ or Youth Ministry? Come be part of the fun and join us for volunteer training at 6 p.m. on Sunday\, August 3! Dinner is provided for volunteers. Childcare offered for kids from birth through fifth grade. Please note that this event’s childcare is offered by MCC Youth.  \nYouth Volunteer Needs: \n\nThe Gathering (Sunday mornings) worship\nSunday Morning Tech Volunteer\nConnect Group Leader\nSNY (Sunday Nights) Small Group Leader\nSNY “Gigi’s Diner” Youth Dinner Team\n\nChildren’s Ministry Volunteer Needs: \n\nSmall group Assistants at 9:50am\nKindergarten small group leader twice month at 9:50am\nMosaic Ministry leaders at 11:10am\n\n  \nSign up Here
URL:https://middletownchristian.org/event/children-and-youth-volunteer-training-2/
CATEGORIES:Children,Churchwide,Students
ATTACH;FMTTYPE=image/png:https://middletownchristian.org/wp-content/uploads/2025/07/CM-Volunteer-Training-2.png
END:VEVENT
BEGIN:VEVENT
DTSTART;TZID=America/Kentucky/Louisville:20250629T170000
DTEND;TZID=America/Kentucky/Louisville:20250629T190000
DTSTAMP:20260420T153022
CREATED:20250609T184049Z
LAST-MODIFIED:20250610T134647Z
UID:9647-1751216400-1751223600@middletownchristian.org
SUMMARY:LGBTQ+ Family Play Date
DESCRIPTION:LGBTQ+  families with kids are invited to join us for a play date & picnic on Sunday\, June 29th at 5 PM on the MCC playground. This is an opportunity to connect with similar families at MCC and hang out. Activities for kids and food provided. RSVP using the form below. \nWeather plan: gym. \nThis event is sponsored by the Imago Dei Team. \nContact: Rachel Freeny\, rfreeny@middletownchristian.org
URL:https://middletownchristian.org/event/lgbtq-family-play-date/
CATEGORIES:Children
ATTACH;FMTTYPE=image/jpeg:https://middletownchristian.org/wp-content/uploads/2025/06/LGBTQ-family-play-date-2.jpg
END:VEVENT
BEGIN:VEVENT
DTSTART;VALUE=DATE:20250617
DTEND;VALUE=DATE:20250621
DTSTAMP:20260420T153022
CREATED:20241104T210616Z
LAST-MODIFIED:20241104T210616Z
UID:9196-1750118400-1750463999@middletownchristian.org
SUMMARY:Kids Passport Camp
DESCRIPTION:Amanda is bringing up to 30 kids with her again to Berea this summer for Passport Kids a camp filled with fun faith-building programming and hands-on missions education.  This is for kids who have finished 3rd-5th grade.  With Christ as our foundation\, Passport empowers students to have fresh encounters with God\, embrace community\, and extend grace to the world. \nWhere: Berea College  Berea\, KY\nWhen: June 17 – 20 \nCost: $368 (Deposit of $100 due upon registration or you pay full amount of $360 with all fees included) \nClick Here to register and pay for this event. 
URL:https://middletownchristian.org/event/kids-passport-camp/
CATEGORIES:Children
ATTACH;FMTTYPE=image/png:https://middletownchristian.org/wp-content/uploads/2024/11/Title.png
END:VEVENT
BEGIN:VEVENT
DTSTART;VALUE=DATE:20250609
DTEND;VALUE=DATE:20250614
DTSTAMP:20260420T153022
CREATED:20250210T130036Z
LAST-MODIFIED:20250210T133047Z
UID:9406-1749427200-1749859199@middletownchristian.org
SUMMARY:Kids Mission Camp
DESCRIPTION:Join us for a whole week of serving for your child! June 9-12 for kids who just left Pre-Kindergarten through fifth grade from 9 a.m. – 5 p.m. We will be doing hands-on service at MCC and all over the community working with the Clothing Assistance Program of JCPS\, EACM\, The Hope Buss\, and more!  Maximum capacity of the camp is 50 kids\, please get registered quickly. \n• Cost: $250 per child ($50 Off A Day if you volunteer the whole day. Ask for Amanda for Promo code.)\n• Cost includes lunch and snacks\, transportation and fees\, T-Shirt\n• For more information or questions\, please contact Amanda O’Mahoney \n  \nCLICK HERE TO PAY AND SIGN UP \n 
URL:https://middletownchristian.org/event/kids-mission-camp/
CATEGORIES:Children
ATTACH;FMTTYPE=image/png:https://middletownchristian.org/wp-content/uploads/2025/01/Mission-Camp-2025-1.png
END:VEVENT
BEGIN:VEVENT
DTSTART;TZID=America/Kentucky/Louisville:20250419T103000
DTEND;TZID=America/Kentucky/Louisville:20250419T103000
DTSTAMP:20260420T153022
CREATED:20250325T181919Z
LAST-MODIFIED:20250325T181944Z
UID:9545-1745058600-1745058600@middletownchristian.org
SUMMARY:Hope Buss Meal Delivery
DESCRIPTION:Help deliver meals to Louisville families in need! We will meet at 10:30 a.m. on  Saturday\, April 19\, at MCC and package meals in Fellowship Hall. Afterward\, we will deliver the food boxes to feed at least 30 families for a week. \nThis is part of The Hope Buss’s HopeFULL program\, which exists to increase access to food for underserved families in Louisville’s West End. This program provides:\nfood box delivery\, transportation to grocery stores\, food pantry\, and weekly hot meals. To find out more about The Hope Buss and their programs\, visit www.thehopebuss.org.
URL:https://middletownchristian.org/event/hope-buss-meal-delivery-2/
CATEGORIES:Children,Serve
ATTACH;FMTTYPE=image/png:https://middletownchristian.org/wp-content/uploads/2025/03/HOPE-BUSS-SERVICE-DAY-1.png
END:VEVENT
BEGIN:VEVENT
DTSTART;TZID=America/Kentucky/Louisville:20250413T180000
DTEND;TZID=America/Kentucky/Louisville:20250413T180000
DTSTAMP:20260420T153022
CREATED:20250306T214930Z
LAST-MODIFIED:20250306T214930Z
UID:9508-1744567200-1744567200@middletownchristian.org
SUMMARY:Easter Jam
DESCRIPTION:Join us for our annual Easter Jam! Bring the whole family for a family worship and fun to celebrate Easter. You don’t need to bring anything\, just you! This is a free family event. We can’t wait to see you!
URL:https://middletownchristian.org/event/easter-jam/
CATEGORIES:Children,Churchwide
ATTACH;FMTTYPE=image/png:https://middletownchristian.org/wp-content/uploads/2025/03/Copy-of-EAster-Jam-2025.png
END:VEVENT
BEGIN:VEVENT
DTSTART;TZID=America/Kentucky/Louisville:20241215T180000
DTEND;TZID=America/Kentucky/Louisville:20241215T180000
DTSTAMP:20260420T153022
CREATED:20241109T183100Z
LAST-MODIFIED:20241109T183100Z
UID:9214-1734285600-1734285600@middletownchristian.org
SUMMARY:Jingle Jam
DESCRIPTION:Join us for a Christmas party big enough for the whole family! There will be games\, crafts\, and a whole lot of holiday fun. This is a free event. You only need to bring yourself and your family! We can’t wait to see you there! \n 
URL:https://middletownchristian.org/event/jingle-jam/
CATEGORIES:Children,Churchwide
ATTACH;FMTTYPE=image/png:https://middletownchristian.org/wp-content/uploads/2024/11/December-15-6pm-gym.png
END:VEVENT
BEGIN:VEVENT
DTSTART;TZID=America/Kentucky/Louisville:20240908T180000
DTEND;TZID=America/Kentucky/Louisville:20240908T193000
DTSTAMP:20260420T153022
CREATED:20240813T152601Z
LAST-MODIFIED:20240813T152601Z
UID:8974-1725818400-1725823800@middletownchristian.org
SUMMARY:Sunday Night Kids Returns
DESCRIPTION:We are excited to start SNK Sept 8. PreK-5th grade are welcome to come any and all weeks for weekly mission projects\, games\, and Christmas concert preparation. At the same time the youth meet\, adult small groups\, adult choir and nursery!
URL:https://middletownchristian.org/event/sunday-night-kids-returns/
CATEGORIES:Children
ATTACH;FMTTYPE=image/png:https://middletownchristian.org/wp-content/uploads/2024/08/SNK-Starts-Presentation.png
END:VEVENT
BEGIN:VEVENT
DTSTART;TZID=America/Kentucky/Louisville:20240825T170000
DTEND;TZID=America/Kentucky/Louisville:20240825T190000
DTSTAMP:20260420T153022
CREATED:20240730T185905Z
LAST-MODIFIED:20240806T170918Z
UID:8904-1724605200-1724612400@middletownchristian.org
SUMMARY:Water Mayhem
DESCRIPTION:Let’s celebrate the start of the new school year with our annual Water Mayhem! Wear a swimsuit\, bring a towel\, and prepare for an evening of fun with water games and inflatables. \nThis event will be held on the side lawn from 5-6 p.m. PreK through fifth grade and 6:30-7:30 p.m. for youth on Sunday\, August 25. \nWe hope to see you there!
URL:https://middletownchristian.org/event/water-mayhem/
CATEGORIES:Children,Students
ATTACH;FMTTYPE=image/png:https://middletownchristian.org/wp-content/uploads/2024/07/Water-Mayhem-2024-Slide-2.png
END:VEVENT
BEGIN:VEVENT
DTSTART;VALUE=DATE:20240811
DTEND;VALUE=DATE:20240812
DTSTAMP:20260420T153022
CREATED:20240730T190417Z
LAST-MODIFIED:20240730T190417Z
UID:8908-1723334400-1723420799@middletownchristian.org
SUMMARY:Pop-Up Sunday
DESCRIPTION:Join us to celebrate the kids in Children’s Ministry “popping up” to the next grade. Kids will get to see their new classroom and meet their new Sunday School teacher. There will also be a photo booth and some special treats. You won’t want to miss it!
URL:https://middletownchristian.org/event/pop-up-sunday/
CATEGORIES:Children
ATTACH;FMTTYPE=image/png:https://middletownchristian.org/wp-content/uploads/2024/07/Pop-Up-Sunday-Web-Event.png
END:VEVENT
BEGIN:VEVENT
DTSTART;TZID=America/Kentucky/Louisville:20240804T170000
DTEND;TZID=America/Kentucky/Louisville:20240804T193000
DTSTAMP:20260420T153022
CREATED:20240716T154404Z
LAST-MODIFIED:20240716T154419Z
UID:8891-1722790800-1722799800@middletownchristian.org
SUMMARY:Children and Youth Volunteer Training
DESCRIPTION:If you are interested in becoming a volunteer for the children or youth ministries\, please join us for volunteer training. \nDinner is available for all volunteers (pasta with marinara & alfredo\, salad\, bread; GF available). \nChildcare is available but dinner is only available for the volunteers who are attending training. \n  \nPlease fill out the form below!
URL:https://middletownchristian.org/event/children-and-youth-volunteer-training/
CATEGORIES:Children,Churchwide,Students
ATTACH;FMTTYPE=image/png:https://middletownchristian.org/wp-content/uploads/2024/07/Volunteer-Training.png
END:VEVENT
END:VCALENDAR