BEGIN:VCALENDAR
VERSION:2.0
PRODID:-//Middletown Christian Church - ECPv6.15.18//NONSGML v1.0//EN
CALSCALE:GREGORIAN
METHOD:PUBLISH
X-ORIGINAL-URL:https://middletownchristian.org
X-WR-CALDESC:Events for Middletown Christian Church
REFRESH-INTERVAL;VALUE=DURATION:PT1H
X-Robots-Tag:noindex
X-PUBLISHED-TTL:PT1H
BEGIN:VTIMEZONE
TZID:America/Kentucky/Louisville
BEGIN:DAYLIGHT
TZOFFSETFROM:-0500
TZOFFSETTO:-0400
TZNAME:EDT
DTSTART:20240310T070000
END:DAYLIGHT
BEGIN:STANDARD
TZOFFSETFROM:-0400
TZOFFSETTO:-0500
TZNAME:EST
DTSTART:20241103T060000
END:STANDARD
BEGIN:DAYLIGHT
TZOFFSETFROM:-0500
TZOFFSETTO:-0400
TZNAME:EDT
DTSTART:20250309T070000
END:DAYLIGHT
BEGIN:STANDARD
TZOFFSETFROM:-0400
TZOFFSETTO:-0500
TZNAME:EST
DTSTART:20251102T060000
END:STANDARD
BEGIN:DAYLIGHT
TZOFFSETFROM:-0500
TZOFFSETTO:-0400
TZNAME:EDT
DTSTART:20260308T070000
END:DAYLIGHT
BEGIN:STANDARD
TZOFFSETFROM:-0400
TZOFFSETTO:-0500
TZNAME:EST
DTSTART:20261101T060000
END:STANDARD
END:VTIMEZONE
BEGIN:VEVENT
DTSTART;TZID=America/Kentucky/Louisville:20250810T095000
DTEND;TZID=America/Kentucky/Louisville:20250810T111000
DTSTAMP:20260423T061201
CREATED:20250724T171653Z
LAST-MODIFIED:20250724T171653Z
UID:9699-1754819400-1754824200@middletownchristian.org
SUMMARY:MCC Kids: Pop Up Sunday
DESCRIPTION:Our kids will Pop Up to their next grade/small group on Sunday\, August 10th at all services. We will celebrate with donuts and treats\, and the kids to get to meet their new small group leaders! \nContact: Amanda O’Mahoney\, aomahoney@middletownchristian.org
URL:https://middletownchristian.org/event/mcc-kids-pop-up-sunday/
CATEGORIES:Children
ATTACH;FMTTYPE=image/png:https://middletownchristian.org/wp-content/uploads/2025/07/Pop-Up-Sunday-Web-Event.png
END:VEVENT
END:VCALENDAR